Workbook

Sheet Construction Measurement Period
A1: Bid registration number
A2: Bidder name
A3: Project name
A4: Technology
A5: Contracted capacity (MW)
A6: Duration of construction (months)
A8: Job Creation: Construction Measurement Period
A9: Job Role | B9: Skill Level | C9: Number of Employees | D9: Duration of Employment (calendar months) | E9: Total RSA-based Employee Person Months | F9: Verified Resident Person Months (percentage of Total)
A10: Project Management | B10: Skilled | E10: =C10*D10 -> 0
A11: Construction Management | B11: Skilled | E11: =C11*D11 -> 0
A12: Project Support | B12: Skilled | E12: =C12*D12 -> 0
A13: Logistics/ Transportation | B13: Skilled | E13: =C13*D13 -> 0
A14: Human Resources | B14: Skilled | E14: =C14*D14 -> 0
A15: Health, Safety & Environment | B15: Skilled | E15: =C15*D15 -> 0
A16: Quality Control/ Management | B16: Skilled | E16: =C16*D16 -> 0
A17: Material Management | B17: Skilled | E17: =C17*D17 -> 0
A18: Security | B18: Skilled | E18: =C18*D18 -> 0
A19: Security | B19: Unskilled | E19: =C19*D19 -> 0
A20: Cleaning | B20: Unskilled | E20: =C20*D20 -> 0
A21: Artisans - Electrical | B21: Skilled | E21: =C21*D21 -> 0
... A37: Other [specify] | B37: Unskilled | E37: =C37*D37 -> 0
A38: Total for the Construction Measurement Period | E38: =SUM(E10:E37) -> 0 | F38: =IFERROR(SUMPRODUCT(E10:E37, F10:F37)/E38,0) -> 0
A39: Unskilled RSA-based Employee Person Months delivered by Verified Residents | F39: {=IFERROR(SUMPRODUCT((ISNUMBER(SEARCH("Unskilled",B10:B37)))*(E10:E37)*(F10:F37))/SUMPRODUCT((ISNUMBER(SEARCH("Unskilled",B10:B37)))*(E10:E37)),0)} -> 0 | G39: =IF(F39<100%,"Does not comply, must = 100%","") -> Does not comply, must = 100%
A41: The Bidder warrants that the Job Creation information provided above is true and correct.

Sheet Operating Measurement Period
A1: Bid registration number | B1: ='Construction Measurement Period'!$B$1 -> 0
A2: Bidder name | B2: ='Construction Measurement Period'!$B$2 -> 0
A3: Project name | B3: ='Construction Measurement Period'!$B$3 -> 0
A4: Technology | B4: ='Construction Measurement Period'!$B$4 -> 0
A5: Contracted capacity (MW) | B5: ='Construction Measurement Period'!$B$5 -> 0
A6: Duration of operating period (months)
A8: Job Creation: Operating Measurement Period
A9: Job Role | B9: Skill Level | C9: Number of Employees | D9: Duration of Employment (calendar months) | E9: Total RSA-based Employee Person Months | F9: Verified Resident Person Months (percentage of Total)
A10: Operations Management | B10: Skilled | E10: =C10*D10 -> 0
A11: Maintenance Management | B11: Skilled | E11: =C11*D11 -> 0
A12: Human Resources | B12: Skilled | E12: =C12*D12 -> 0
A13: Health, Safety & Environment | B13: Skilled | E13: =C13*D13 -> 0
A14: Quality Control/ Management | B14: Skilled | E14: =C14*D14 -> 0
A15: Security | B15: Skilled | E15: =C15*D15 -> 0
A16: Security | B16: Unskilled | E16: =C16*D16 -> 0
A17: Cleaning | B17: Unskilled | E17: =C17*D17 -> 0
A18: Artisans - Electrical | B18: Skilled | E18: =C18*D18 -> 0
A19: Artisans - Substructure | B19: Skilled | E19: =C19*D19 -> 0
A20: Artisans - Civils | B20: Skilled | E20: =C20*D20 -> 0
A21: Semi-skilled - Electrical | B21: Skilled | E21: =C21*D21 -> 0
... A31: Other [specify] | B31: Unskilled | E31: =C31*D31 -> 0
A32: Total for the Operating Measurement Period | E32: =SUM(E10:E31) -> 0 | F32: =IFERROR(SUMPRODUCT(E10:E31, F10:F31)/E32,0) -> 0
A33: Unskilled RSA-based Employee Person Months delivered by Verified Residents | F33: {=IFERROR(SUMPRODUCT((ISNUMBER(SEARCH("Unskilled",B10:B31)))*(E10:E31)*(F10:F31))/SUMPRODUCT((ISNUMBER(SEARCH("Unskilled",B10:B31)))*(E10:E31)),0)} -> 0 | G33: =IF(F33<100%,"Does not comply, must = 100%","") -> Does not comply, must = 100%
A35: The Bidder warrants that the Job Creation information provided above is true and correct.
