Workbook
Name _d: OFFSET(Full_Print,0,0,'BESS Cashflow AFS FI'!Last_Row)
Name _d: OFFSET(Full_Print,0,0,'Megaflex LA'!Last_Row)
Name _d: OFFSET(Full_Print,0,0,[0]!Last_Row)
Name _p1: OFFSET(Full_Print,0,0,'BESS Cashflow AFS FI'!Last_Row)
Name _p1: OFFSET(Full_Print,0,0,'Megaflex LA'!Last_Row)
Name _p1: OFFSET(Full_Print,0,0,Last_Row)
Name Annual_Cycles: 'BESS Cashflow AFS FI'!$H$55
Name AS2DocOpenMode: "AS2DocumentBrowse"
Name AssetClasses: #REF!
Name BEE_SH1: #REF!
Name BEE_SH2: #REF!
Name BEE_SH3: #REF!
Name BEE_SH4: #REF!
Name BESS_COD: 'BESS Cashflow AFS FI'!$G$4
Name BESS_PPA_EndDate: 'BESS Cashflow AFS FI'!$G$6
Name BESS_Price: 'BESS Cashflow AFS FI'!$H$29
Name Breach: #REF!
Name Button_3: "Carlsberg_estimat_Resultatopgørelse_List"
Name Button_78: "NSI_Download_APS_List"
Name CapexCategory: #REF!
Name Check_sensi: #REF!
Name Col_Name: #REF!
Name Con_End: #REF!
Name Con_Start: #REF!
Name CostDrivers: #REF!
Name cu: "R m"
Name Curr_Base: #REF!
Name Currencies: #REF!
Name date: NOW()
Name Days_Year: #REF!
Name Delay_End: #REF!
Name Delay_Start: #REF!
Name Div_Delta: #REF!
Name DivPayable_Copy: #REF!
Name DNB: "TickerRange"
Name DQA: MATCH(0.01,End_Bal,-1)+1
Name DQA: MATCH(0.01,End_Bal,-1)+1
Name DQA: MATCH(0.01,End_Bal,-1)+1
Name DriverGroups: #REF!
Name DS_Delta: #REF!
Name DS_Paste: #REF!
Name ErrorClasses: #REF!
Name Escalations: #REF!
Name EWRFWERWEQ: MATCH(0.01,End_Bal,-1)+1
Name EWRFWERWEQ: MATCH(0.01,End_Bal,-1)+1
Name EWRFWERWEQ: MATCH(0.01,End_Bal,-1)+1
Name Fin_Close: #REF!
Name Final_Mth: #REF!
Name FINCopyDirection: 1
Name FINCriteriaType: 1
Name foi: MATCH(0.01,End_Bal,-1)+1
Name foi: MATCH(0.01,End_Bal,-1)+1
Name foi: MATCH(0.01,End_Bal,-1)+1
Name Forex_Escalations: #REF!
Name Fuel_Units: #REF!
Name FuelOptions: #REF!
Name Funding_Delta: #REF!
Name Funding_Paste: #REF!
Name FundSplitSub_Copy: #REF!
Name GenDistrOptions: #REF!

Sheet Cover Page
B2: Contents
B4: Type | C4: Sheet Name | D4: Description
B5: Instructions | C5: Contents page | D5: Contents page
B6: Input (Required by Bidder) | C6: Template 1a - PV: Fully Indexed Cashflow Waterfall | D6: Annual cash waterfall of bidder, including termination calculations for a fully indexed tariff
B7: Input (Required by Bidder) | C7: Template 1b - BESS: Fully Indexed Cashflow Waterfall | D7: Annual cash waterfall of bidder, including termination calculations for a fully indexed tariff
B8: Input (Required by Bidder) | C8: Template 2 - Capex appendix | D8: Capex breakdown and sensitivities
B9: Input (Required by Bidder) | C9: Template 3 - Success and Dev fee appendix | D9: Bidder's success fees and development fees
B10: Input (Required by Bidder) | C10: Template 3 - Debt funding appendix | D10: Bidder's debt funding approach
B11: Input (Required by Bidder) | C11: Template 4 - Technical appexdix | D11: Bidders technical inputs
B12: Input (Required by Bidder) | C12: Template 5 - BEE appendix | D12: Annual cash waterfall of bidder BEE distributions
C13: Template 6 - Macro-economic inputs | D13: Macro-economic inputs required to be used in the financial model
B14: Input | C14: Template 7 - Issues | D14: All discrepancies between the financial model and the templates can be recorded here
C15: Template 8 - Eskom Inputs 1 | D15: Eskom Megaflex Generator Tariffs - Non Local Authority
C16: Template 9 - Eskom Inputs 2 | D16: Eskom Megaflex Tariffs - Local Authority
B19: Legend
B21: Work Sheets
B22: Input Sheets (Required by Bidder)
B24: Legend
B25: Input Cells (Required by Bidder) | C25: xxx
B26: Selection Cell
B27: Check Cell
B28: Calculation Cell | C28: xxx
B30: Key Instructions
B31: 1. The submission requires all templates to be completed per Site and per Technology
B32: 2. Each template is required to be copied into the bidders financial model and each input cell should be linked accurately to the financial model
B33: 3. Bidders to submit a source or reference for each input provided
B34: 4. All information in these templates should accurately reflect the information in the financial model as well as supporting documentation
B35: 5. GUoS should be included in the Price (if applicable)
B36: 6. All bidders should align the Annual Financial Statement to begin [1 July]
B37: 7. All discrepancies between the financial model and the templates need to be justified in writing in the Issues sheet
B38: 8. All errors to be addressed before submission
B39: 9. No changes to the macro-economic inputs will be accepted
B40: 10. Please ensure that all templates are copied to the bidders financial model to prevent any external links

Sheet PV Cashflow AFS FI
B1: Back to Cover Page
B3: Validity Check | F3: Construction Start | G3: COD | H3: Template Model start | I3: =IF(MONTH(H4)=7,H4,"Template Model Start Must Be July") -> 45839 | J3: =I4+1 -> 46204 | K3: =J4+1 -> 46569 | L3: =K4+1 -> 46935 | M3: =L4+1 -> 47300 | N3: =M4+1 -> 47665 | O3: =N4+1 -> 48030 | P3: =O4+1 -> 48396 | Q3: =P4+1 -> 48761 | ... AG3: =AF4+1 -> 54605
B4: =IF(SUM(A20:A38,A43,A48,A51,A63:A72,A85:A112,A116,A119:A120,A128,A149:A150,A153:A154,A175,A184,A187,A192,A195,A223,A261:A262,A274:A275,A284:A285,A337)=0,0,1) -> 1 | F4: 45809 | G4: =DATE(YEAR(F4),MONTH(F4)+F6,DAY(F4)) -> 46054 | H4: 45839 | I4: =EOMONTH(I3,11) -> 46203 | J4: =EOMONTH(J3,11) -> 46568 | K4: =EOMONTH(K3,11) -> 46934 | L4: =EOMONTH(L3,11) -> 47299 | M4: =EOMONTH(M3,11) -> 47664 | N4: =EOMONTH(N3,11) -> 48029 | O4: =EOMONTH(O3,11) -> 48395 | P4: =EOMONTH(P3,11) -> 48760 | ... AG4: =EOMONTH(AG3,11) -> 54969
B5: =SUM(A20:A356) -> 39 | F5: Construction Period | G5: End of PPA | H5: PPA Period | I5: =YEAR(I4) -> 2026 | J5: =YEAR(J4) -> 2027 | K5: =YEAR(K4) -> 2028 | L5: =YEAR(L4) -> 2029 | M5: =YEAR(M4) -> 2030 | N5: =YEAR(N4) -> 2031 | O5: =YEAR(O4) -> 2032 | P5: =YEAR(P4) -> 2033 | ... AG5: =YEAR(AG4) -> 2050
F6: 8 | G6: =DATE(YEAR(G4)+H6,MONTH(G4),DAY(G4)-1) -> 53358 | H6: 20
A7: Enter all figures in ZAR '000. Only input into grey cells | G7: Construction Period | I7: =IF(AND(I4>$F$4,I3<$G$4),1,0) -> 1 | J7: =IF(AND(J4>$F$4,J3<$G$4),1,0) -> 0 | K7: =IF(AND(K4>$F$4,K3<$G$4),1,0) -> 0 | L7: =IF(AND(L4>$F$4,L3<$G$4),1,0) -> 0 | M7: =IF(AND(M4>$F$4,M3<$G$4),1,0) -> 0 | N7: =IF(AND(N4>$F$4,N3<$G$4),1,0) -> 0 | O7: =IF(AND(O4>$F$4,O3<$G$4),1,0) -> 0 | P7: =IF(AND(P4>$F$4,P3<$G$4),1,0) -> 0 | ... AG7: =IF(AND(AG4>$F$4,AG3<$G$4),1,0) -> 0
G8: COD Flag | H8: Start of Project Operations | I8: =IF(AND(I3<=$G$4,I4>=$G$4),1,0) -> 1 | J8: =IF(AND(J3<=$G$4,J4>=$G$4),1,0) -> 0 | K8: =IF(AND(K3<=$G$4,K4>=$G$4),1,0) -> 0 | L8: =IF(AND(L3<=$G$4,L4>=$G$4),1,0) -> 0 | M8: =IF(AND(M3<=$G$4,M4>=$G$4),1,0) -> 0 | N8: =IF(AND(N3<=$G$4,N4>=$G$4),1,0) -> 0 | O8: =IF(AND(O3<=$G$4,O4>=$G$4),1,0) -> 0 | P8: =IF(AND(P3<=$G$4,P4>=$G$4),1,0) -> 0 | ... AG8: =IF(AND(AG3<=$G$4,AG4>=$G$4),1,0) -> 0
G9: Operations Active | I9: =IF(AND(I4>=$G$4,I3<=$G$6),1,0) -> 1 | J9: =IF(AND(J4>=$G$4,J3<=$G$6),1,0) -> 1 | K9: =IF(AND(K4>=$G$4,K3<=$G$6),1,0) -> 1 | L9: =IF(AND(L4>=$G$4,L3<=$G$6),1,0) -> 1 | M9: =IF(AND(M4>=$G$4,M3<=$G$6),1,0) -> 1 | N9: =IF(AND(N4>=$G$4,N3<=$G$6),1,0) -> 1 | O9: =IF(AND(O4>=$G$4,O3<=$G$6),1,0) -> 1 | P9: =IF(AND(P4>=$G$4,P3<=$G$6),1,0) -> 1 | ... AG9: =IF(AND(AG4>=$G$4,AG3<=$G$6),1,0) -> 0
A10: How to use this sheet
A11: This sheet is to be copied to the bidders financial model.
A12: This can be done by right clicking on the tabs, select "Move or Copy", select your financial model under the "To Book" dropdown and click OK
A13: The Bidders model should link directly to this tab so that the sources of information can be easily traced
A14: All amounts should correspond to the unit for that line - e.g. if the unit for the line is ZAR '000 then the amount should be in thousands of dollars
A15: Expenses for the Bidder (e.g. Capex or Opex) should be negative numbers if they decrease cashflow while amounts that increase cashflow should be positive
A16: GUoS should be included when calculating the bid tariff (if applicable)
B19: Error Check
A20: =IF(B20="",0,1) -> 1 | B20: =IF(ISBLANK(H20),"Project Name has not been updated","") -> Project Name has not been updated | F20: Project Name: | G20: Name
A21: =IF(B21="",0,1) -> 0 | B21: =IF(H21="Please Select","Technology has not been selected","") | F21: Technology | G21: Selection | H21: PV
A22: =IF(B22="",0,1) -> 0 | B22: =IF(H22="Please Select","Profile has not been selected","") | F22: Profile | G22: Selection | H22: P50
A23: =IF(B23="",0,1) -> 1 | B23: =IF(ISBLANK(H23),"Site Name is Blank","") -> Site Name is Blank | F23: Site Name: | G23: Name
A24: =IF(B24="",0,1) -> 1 | B24: =IF(ISBLANK(H24),"Site Name is Blank","") -> Site Name is Blank | F24: Maximum DC Nameplate Capacity | G24: MWdc
A25: =IF(B25="",0,1) -> 1 | B25: =IF(ISBLANK(H25),"Site Capacity is Blank","") -> Site Capacity is Blank | F25: Contracted Capacity | G25: MWac
A26: =IF(B26="",0,1) -> 1 | B26: =IF(ISBLANK(H26),"Capacity Factor is Blank","") -> Capacity Factor is Blank | F26: Capacity Factor: 1st full year of operation predicted energy generation/(gross MW capacity * 8760 hour) | G26: %
A27: =IF(B27="",0,1) -> 1 | B27: =IF(ISBLANK(H27),"RFP Reference Number is Blank","") -> RFP Reference Number is Blank | F27: RFP Reference Number: | G27: Number
A28: =IF(B28="",0,1) -> 1 | B28: =IF(ISBLANK(H28),"Bidder Reference Number is Blank","") -> Bidder Reference Number is Blank | F28: Bidder Reference Number: | G28: Number
A29: =IF(B29="",0,1) -> 1 | B29: =IF(ISBLANK(H29),"Grid Connection Location is Blank","") -> Grid Connection Location is Blank | F29: Grid Connection Location | G29: Location
A30: =IF(B30="",0,1) -> 1 | B30: =IF(ISBLANK(H30),"Project Location is Blank","") -> Project Location is Blank | F30: Project Location | G30: Location
A31: =IF(B31="",0,1) -> 1 | B31: =IF(ISBLANK(H31),"Bid Tariff is Blank","") -> Bid Tariff is Blank | F31: Price | G31: ZAR / kWh
A32: =IF(B32="",0,1) -> 0 | B32: =IF(ISBLANK(H32),"Base Year is Blank","") | F32: Base Date | G32: dd-mm-yy | H32: =H4 -> 45839
F33: Generator Use of System Charges
A34: =IF(B34="",0,1) -> 0 | F34: Supply voltage | G34: Selection | H34: ≥ 66kV & ≤ 132kV
A35: =IF(B35="",0,1) -> 0 | F35: Transmission zone (Distribution connected) | G35: Selection | H35: > 300km & ≤ 600km
A36: =IF(B36="",0,1) -> 0 | F36: Transmission zone (generators) | G36: Selection | H36: Karoo
A37: =IF(B37="",0,1) -> 0 | F37: If Rural = 0 IF Urban = 1 | G37: [0;1] | H37: 1
A38: =IF(B38="",0,1) -> 0 | F38: Customer segment/size | G38: Selection | H38: > 1 MVA/MW
A40: Operational Summary | I40: =I5 -> 2026 | J40: =J5 -> 2027 | K40: =K5 -> 2028 | L40: =L5 -> 2029 | M40: =M5 -> 2030 | N40: =N5 -> 2031 | O40: =O5 -> 2032 | P40: =P5 -> 2033 | ... AG40: =AG5 -> 2050
B41: Error Check
A42: =IF(B42="",0,1) -> 1 | B42: =IF(H42/12<>H5,"Renewable Energy Sold","") -> Renewable Energy Sold | D42: Total MWh Sold | F42: MWh of Renewable Energy Sold per annum | G42: MWh | H42: =SUMIF($I$9:$AG$9,1,I42:AG42) -> 0
A43: =IF(B43="",0,1) -> 0 | B43: =IF(H43/12<>H2,"Please input days of operations","") | F43: Days of Operation (Non-Cum) | G43: Days | I43: =IF(AND(I3>=PV_COD,I4<=PV_PPA_EndDate),I4-I3+1,IF(AND(PV_COD>I3,PV_COD<I4),PV_COD-I3,IF(AND(PV_PPA_EndDate>I3,PV_PPA_EndDate<I4),PV_PPA_EndDate-I3)))*I9 -> 215 | J43: =IF(AND(J3>=PV_COD,J4<=PV_PPA_EndDate),J4-J3+1,IF(AND(PV_COD>J3,PV_COD<J4),PV_COD-J3,IF(AND(PV_PPA_EndDate>J3,PV_PPA_EndDate<J4),PV_PPA_EndDate-J3)))*J9 -> 365 | K43: =IF(AND(K3>=PV_COD,K4<=PV_PPA_EndDate),K4-K3+1,IF(AND(PV_COD>K3,PV_COD<K4),PV_COD-K3,IF(AND(PV_PPA_EndDate>K3,PV_PPA_EndDate<K4),PV_PPA_EndDate-K3)))*K9 -> 366 | L43: =IF(AND(L3>=PV_COD,L4<=PV_PPA_EndDate),L4-L3+1,IF(AND(PV_COD>L3,PV_COD<L4),PV_COD-L3,IF(AND(PV_PPA_EndDate>L3,PV_PPA_EndDate<L4),PV_PPA_EndDate-L3)))*L9 -> 365 | M43: =IF(AND(M3>=PV_COD,M4<=PV_PPA_EndDate),M4-M3+1,IF(AND(PV_COD>M3,PV_COD<M4),PV_COD-M3,IF(AND(PV_PPA_EndDate>M3,PV_PPA_EndDate<M4),PV_PPA_EndDate-M3)))*M9 -> 365 | N43: =IF(AND(N3>=PV_COD,N4<=PV_PPA_EndDate),N4-N3+1,IF(AND(PV_COD>N3,PV_COD<N4),PV_COD-N3,IF(AND(PV_PPA_EndDate>N3,PV_PPA_EndDate<N4),PV_PPA_EndDate-N3)))*N9 -> 365 | O43: =IF(AND(O3>=PV_COD,O4<=PV_PPA_EndDate),O4-O3+1,IF(AND(PV_COD>O3,PV_COD<O4),PV_COD-O3,IF(AND(PV_PPA_EndDate>O3,PV_PPA_EndDate<O4),PV_PPA_EndDate-O3)))*O9 -> 366 | P43: =IF(AND(P3>=PV_COD,P4<=PV_PPA_EndDate),P4-P3+1,IF(AND(PV_COD>P3,PV_COD<P4),PV_COD-P3,IF(AND(PV_PPA_EndDate>P3,PV_PPA_EndDate<P4),PV_PPA_EndDate-P3)))*P9 -> 365 | ... AG43: =IF(AND(AG3>=PV_COD,AG4<=PV_PPA_EndDate),AG4-AG3+1,IF(AND(PV_COD>AG3,PV_COD<AG4),PV_COD-AG3,IF(AND(PV_PPA_EndDate>AG3,PV_PPA_EndDate<AG4),PV_PPA_EndDate-AG3)))*AG9 -> 0
F45: Anticipated Renewable Energy Peak MWh Sold | G45: kWh | H45: =SUMIF($I$9:$AG$9,1,I45:AG45) -> 0
...

Sheet BESS Cashflow AFS FI
B1: Back to Cover Page
B3: Validity Check | F3: Construction Start | G3: COD | H3: Template Model start | I3: =IF(MONTH(H4)=7,H4,"Template Model Start Must Be July") -> 45839 | J3: =I4+1 -> 46204 | K3: =J4+1 -> 46569 | L3: =K4+1 -> 46935 | M3: =L4+1 -> 47300 | N3: =M4+1 -> 47665 | O3: =N4+1 -> 48030 | P3: =O4+1 -> 48396 | Q3: =P4+1 -> 48761 | ... AG3: =AF4+1 -> 54605
B4: =IF(SUM(A20:A36,A48,A85:A94,A107:A134,A138,A141:A142,A150,A171:A172,A175:A176,A197,A206,A209,A214,A217,A245,A283:A284,A296:A297,A306:A307,A359)=0,0,1) -> 1 | F4: 46204 | G4: =DATE(YEAR(F4),MONTH(F4)+F6,DAY(F4)) -> 46569 | H4: 45839 | I4: =EOMONTH(I3,11) -> 46203 | J4: =EOMONTH(J3,11) -> 46568 | K4: =EOMONTH(K3,11) -> 46934 | L4: =EOMONTH(L3,11) -> 47299 | M4: =EOMONTH(M3,11) -> 47664 | N4: =EOMONTH(N3,11) -> 48029 | O4: =EOMONTH(O3,11) -> 48395 | P4: =EOMONTH(P3,11) -> 48760 | ... AG4: =EOMONTH(AG3,11) -> 54969
B5: =SUM(A20:A378) -> 40 | F5: Construction Period | G5: End of PPA | H5: PPA Period | I5: =YEAR(I4) -> 2026 | J5: =YEAR(J4) -> 2027 | K5: =YEAR(K4) -> 2028 | L5: =YEAR(L4) -> 2029 | M5: =YEAR(M4) -> 2030 | N5: =YEAR(N4) -> 2031 | O5: =YEAR(O4) -> 2032 | P5: =YEAR(P4) -> 2033 | ... AG5: =YEAR(AG4) -> 2050
F6: 12 | G6: =DATE(YEAR(G4)+H6,MONTH(G4),DAY(G4)-1) -> 52047 | H6: 15
A7: Enter all figures in ZAR '000. Only input into grey cells | G7: Construction Period | I7: =IF(AND(I4>$F$4,I3<$G$4),1,0) -> 0 | J7: =IF(AND(J4>$F$4,J3<$G$4),1,0) -> 1 | K7: =IF(AND(K4>$F$4,K3<$G$4),1,0) -> 0 | L7: =IF(AND(L4>$F$4,L3<$G$4),1,0) -> 0 | M7: =IF(AND(M4>$F$4,M3<$G$4),1,0) -> 0 | N7: =IF(AND(N4>$F$4,N3<$G$4),1,0) -> 0 | O7: =IF(AND(O4>$F$4,O3<$G$4),1,0) -> 0 | P7: =IF(AND(P4>$F$4,P3<$G$4),1,0) -> 0 | ... AG7: =IF(AND(AG4>$F$4,AG3<$G$4),1,0) -> 0
G8: COD Flag | H8: Start of Project Operations | I8: =IF(AND(I3<=$G$4,I4>=$G$4),1,0) -> 0 | J8: =IF(AND(J3<=$G$4,J4>=$G$4),1,0) -> 0 | K8: =IF(AND(K3<=$G$4,K4>=$G$4),1,0) -> 1 | L8: =IF(AND(L3<=$G$4,L4>=$G$4),1,0) -> 0 | M8: =IF(AND(M3<=$G$4,M4>=$G$4),1,0) -> 0 | N8: =IF(AND(N3<=$G$4,N4>=$G$4),1,0) -> 0 | O8: =IF(AND(O3<=$G$4,O4>=$G$4),1,0) -> 0 | P8: =IF(AND(P3<=$G$4,P4>=$G$4),1,0) -> 0 | ... AG8: =IF(AND(AG3<=$G$4,AG4>=$G$4),1,0) -> 0
G9: Operations Active | I9: =IF(AND(I4>=$G$4,I3<=$G$6),1,0) -> 0 | J9: =IF(AND(J4>=$G$4,J3<=$G$6),1,0) -> 0 | K9: =IF(AND(K4>=$G$4,K3<=$G$6),1,0) -> 1 | L9: =IF(AND(L4>=$G$4,L3<=$G$6),1,0) -> 1 | M9: =IF(AND(M4>=$G$4,M3<=$G$6),1,0) -> 1 | N9: =IF(AND(N4>=$G$4,N3<=$G$6),1,0) -> 1 | O9: =IF(AND(O4>=$G$4,O3<=$G$6),1,0) -> 1 | P9: =IF(AND(P4>=$G$4,P3<=$G$6),1,0) -> 1 | ... AG9: =IF(AND(AG4>=$G$4,AG3<=$G$6),1,0) -> 0
A10: How to use this sheet
A11: This sheet is to be copied to the bidders financial model.
A12: This can be done by right clicking on the tabs, select "Move or Copy", select your financial model under the "To Book" dropdown and click OK
A13: The Bidders model should link directly to this tab so that the sources of information can be easily traced
A14: All amounts should correspond to the unit for that line - e.g. if the unit for the line is ZAR '000 then the amount should be in thousands of dollars
A15: Expenses for the Bidder (e.g. Capex or Opex) should be negative numbers if they decrease cashflow while amounts that increase cashflow should be positive
A16: GUoS should be included when calculating the bid traiff (if applicable)
B19: Error Check
A20: =IF(B20="",0,1) -> 1 | B20: =IF(ISBLANK(H20),"Project Name has not been updated","") -> Project Name has not been updated | F20: Project Name: | G20: Name
A21: =IF(B21="",0,1) -> 0 | B21: =IF(ISBLANK(H21),"Project Name has not been updated","") | F21: Technology | G21: Selection | H21: BESS
A22: =IF(B22="",0,1) -> 1 | B22: =IF(ISBLANK(H22),"Site Name is Blank","") -> Site Name is Blank | F22: Site Name: | G22: Name
A23: =IF(B23="",0,1) -> 1 | B23: =IF(ISBLANK(H23),"Maximum DC Nameplate Capacity","") -> Maximum DC Nameplate Capacity | F23: Maximum DC Nameplate Capacity | G23: MWdc
A24: =IF(B24="",0,1) -> 1 | B24: =IF(ISBLANK(H24),"Contracted Capacity","") -> Contracted Capacity | F24: Contracted Capacity | G24: MWac
A25: =IF(B25="",0,1) -> 1 | B25: =IF(ISBLANK(H25),"RFP Reference Number is Blank","") -> RFP Reference Number is Blank | F25: RFP Reference Number: | G25: Number
A26: =IF(B26="",0,1) -> 1 | B26: =IF(ISBLANK(H26),"Bidder Reference Number is Blank","") -> Bidder Reference Number is Blank | F26: Bidder Reference Number: | G26: Number
A27: =IF(B27="",0,1) -> 1 | B27: =IF(ISBLANK(H27),"Grid Connection Location is Blank","") -> Grid Connection Location is Blank | F27: Grid Connection Location | G27: Location
A28: =IF(B28="",0,1) -> 1 | B28: =IF(ISBLANK(H28),"Project Location is Blank","") -> Project Location is Blank | F28: Project Location | G28: Location
A29: =IF(B29="",0,1) -> 1 | B29: =IF(ISBLANK(H29),"Price is Blank","") -> Price is Blank | F29: Price | G29: ZAR / kWh
A30: =IF(B30="",0,1) -> 0 | B30: =IF(ISBLANK(H30),"Base Year is Blank","") | F30: Base Date | G30: dd-mm-yy | H30: =H4 -> 45839
F31: Generator Use of System Charges
A32: =IF(B32="",0,1) -> 0 | F32: - Supply voltage | G32: Selection
A33: =IF(B33="",0,1) -> 0 | F33: - Transmission zone (Distribution connected) | G33: Selection
A34: =IF(B34="",0,1) -> 0 | F34: - Transmission zone (generators) | G34: Selection
A35: =IF(B35="",0,1) -> 0 | F35: - If Rural = 0 IF Urban = 1 | G35: [0;1]
A36: =IF(B36="",0,1) -> 0 | F36: - Customer segment/size | G36: Selection
A38: Operational Summary | I38: =I5 -> 2026 | J38: =J5 -> 2027 | K38: =K5 -> 2028 | L38: =L5 -> 2029 | M38: =M5 -> 2030 | N38: =N5 -> 2031 | O38: =O5 -> 2032 | P38: =P5 -> 2033 | ... AG38: =AG5 -> 2050
B39: Error Check
F41: RSA CPI Escalation | G41: % | I41: =SUMIFS('Macro-economic inputs'!$J$47:$AC$47,'Macro-economic inputs'!$J$45:$AC$45,'BESS Cashflow AFS FI'!I3) -> 0.05 | J41: =SUMIFS('Macro-economic inputs'!$J$47:$AC$47,'Macro-economic inputs'!$J$45:$AC$45,'BESS Cashflow AFS FI'!J3) -> 0.05 | K41: =SUMIFS('Macro-economic inputs'!$J$47:$AC$47,'Macro-economic inputs'!$J$45:$AC$45,'BESS Cashflow AFS FI'!K3) -> 0.05 | L41: =SUMIFS('Macro-economic inputs'!$J$47:$AC$47,'Macro-economic inputs'!$J$45:$AC$45,'BESS Cashflow AFS FI'!L3) -> 0.05 | M41: =SUMIFS('Macro-economic inputs'!$J$47:$AC$47,'Macro-economic inputs'!$J$45:$AC$45,'BESS Cashflow AFS FI'!M3) -> 0.05 | N41: =SUMIFS('Macro-economic inputs'!$J$47:$AC$47,'Macro-economic inputs'!$J$45:$AC$45,'BESS Cashflow AFS FI'!N3) -> 0.05 | O41: =SUMIFS('Macro-economic inputs'!$J$47:$AC$47,'Macro-economic inputs'!$J$45:$AC$45,'BESS Cashflow AFS FI'!O3) -> 0.05 | P41: =SUMIFS('Macro-economic inputs'!$J$47:$AC$47,'Macro-economic inputs'!$J$45:$AC$45,'BESS Cashflow AFS FI'!P3) -> 0.05 | ... AG41: =SUMIFS('Macro-economic inputs'!$J$47:$AC$47,'Macro-economic inputs'!$J$45:$AC$45,'BESS Cashflow AFS FI'!AG3) -> 0
F42: Eskom Escalation | G42: % | I42: =SUMIFS('Macro-economic inputs'!$J$48:$AC$48,'Macro-economic inputs'!$J$45:$AC$45,'BESS Cashflow AFS FI'!I3) -> 0.1 | J42: =SUMIFS('Macro-economic inputs'!$J$48:$AC$48,'Macro-economic inputs'!$J$45:$AC$45,'BESS Cashflow AFS FI'!J3) -> 0.1 | K42: =SUMIFS('Macro-economic inputs'!$J$48:$AC$48,'Macro-economic inputs'!$J$45:$AC$45,'BESS Cashflow AFS FI'!K3) -> 0.1 | L42: =SUMIFS('Macro-economic inputs'!$J$48:$AC$48,'Macro-economic inputs'!$J$45:$AC$45,'BESS Cashflow AFS FI'!L3) -> 0.1 | M42: =SUMIFS('Macro-economic inputs'!$J$48:$AC$48,'Macro-economic inputs'!$J$45:$AC$45,'BESS Cashflow AFS FI'!M3) -> 0.1 | N42: =SUMIFS('Macro-economic inputs'!$J$48:$AC$48,'Macro-economic inputs'!$J$45:$AC$45,'BESS Cashflow AFS FI'!N3) -> 0.1 | O42: =SUMIFS('Macro-economic inputs'!$J$48:$AC$48,'Macro-economic inputs'!$J$45:$AC$45,'BESS Cashflow AFS FI'!O3) -> 0.1 | P42: =SUMIFS('Macro-economic inputs'!$J$48:$AC$48,'Macro-economic inputs'!$J$45:$AC$45,'BESS Cashflow AFS FI'!P3) -> 0.1 | ... AG42: =SUMIFS('Macro-economic inputs'!$J$48:$AC$48,'Macro-economic inputs'!$J$45:$AC$45,'BESS Cashflow AFS FI'!AG3) -> 0
A44: =IF(B44="",0,1) -> 1 | B44: =IF(H44=0,"Capacity AC","") -> Capacity AC | F44: Capacity (AC) | G44: kWh | H44: =SUMIF($I$9:$AG$9,1,I44:AG44) -> 0
A45: =IF(B45="",0,1) -> 1 | B45: =IF(H45=0,"RTE AC","") -> RTE AC | F45: RTE | G45: % | H45: =SUMIF($I$9:$AG$9,1,I45:AG45) -> 0
F46: Days of Operation (Non-Cum) | G46: Days | I46: =IF(AND(I3>=BESS_COD,I4<=BESS_PPA_EndDate),I4-I3+1,IF(AND(BESS_COD>I3,BESS_COD<I4),BESS_COD-I3,IF(AND(BESS_PPA_EndDate>I3,BESS_PPA_EndDate<I4),BESS_PPA_EndDate-I3)))*I9 -> 0 | J46: =IF(AND(J3>=BESS_COD,J4<=BESS_PPA_EndDate),J4-J3+1,IF(AND(BESS_COD>J3,BESS_COD<J4),BESS_COD-J3,IF(AND(BESS_PPA_EndDate>J3,BESS_PPA_EndDate<J4),BESS_PPA_EndDate-J3)))*J9 -> 0 | K46: =IF(AND(K3>=BESS_COD,K4<=BESS_PPA_EndDate),K4-K3+1,IF(AND(BESS_COD>K3,BESS_COD<K4),BESS_COD-K3,IF(AND(BESS_PPA_EndDate>K3,BESS_PPA_EndDate<K4),BESS_PPA_EndDate-K3)))*K9 -> 366 | L46: =IF(AND(L3>=BESS_COD,L4<=BESS_PPA_EndDate),L4-L3+1,IF(AND(BESS_COD>L3,BESS_COD<L4),BESS_COD-L3,IF(AND(BESS_PPA_EndDate>L3,BESS_PPA_EndDate<L4),BESS_PPA_EndDate-L3)))*L9 -> 365 | M46: =IF(AND(M3>=BESS_COD,M4<=BESS_PPA_EndDate),M4-M3+1,IF(AND(BESS_COD>M3,BESS_COD<M4),BESS_COD-M3,IF(AND(BESS_PPA_EndDate>M3,BESS_PPA_EndDate<M4),BESS_PPA_EndDate-M3)))*M9 -> 365 | N46: =IF(AND(N3>=BESS_COD,N4<=BESS_PPA_EndDate),N4-N3+1,IF(AND(BESS_COD>N3,BESS_COD<N4),BESS_COD-N3,IF(AND(BESS_PPA_EndDate>N3,BESS_PPA_EndDate<N4),BESS_PPA_EndDate-N3)))*N9 -> 365 | O46: =IF(AND(O3>=BESS_COD,O4<=BESS_PPA_EndDate),O4-O3+1,IF(AND(BESS_COD>O3,BESS_COD<O4),BESS_COD-O3,IF(AND(BESS_PPA_EndDate>O3,BESS_PPA_EndDate<O4),BESS_PPA_EndDate-O3)))*O9 -> 366 | P46: =IF(AND(P3>=BESS_COD,P4<=BESS_PPA_EndDate),P4-P3+1,IF(AND(BESS_COD>P3,BESS_COD<P4),BESS_COD-P3,IF(AND(BESS_PPA_EndDate>P3,BESS_PPA_EndDate<P4),BESS_PPA_EndDate-P3)))*P9 -> 365 | ... AG46: =IF(AND(AG3>=BESS_COD,AG4<=BESS_PPA_EndDate),AG4-AG3+1,IF(AND(BESS_COD>AG3,BESS_COD<AG4),BESS_COD-AG3,IF(AND(BESS_PPA_EndDate>AG3,BESS_PPA_EndDate<AG4),BESS_PPA_EndDate-AG3)))*AG9 -> 0
...

Sheet Capex appendix
B1: Back to Cover Page
B3: Validity Check | D3: Capex Appendix
B4: =IF(SUM(A9,A14:A22,A36:A47,A51:A59,A64:A72,A77:A85)=0,0,1) -> 1 | D4: Project Name: | G4: Site Name:
B5: =SUM(A9:A362) -> 39 | D5: RFP Reference Number: | G5: Site Capcaity MWac
D6: Bidder Reference Number:
A9: =IF(B9="",0,1) -> 0 | B9: =IF(F9="Please Select","Technology has not been selected","") | D9: Technology | E9: Selection | F9: PV+BESS
D11: FIELD DESCRIPTION | F11: UNIT | G11: VALUE | H11: BIDDER FINANCIAL MODEL REFERENCE
D12: Capital Expenditure - Solar PV | H12: (reference in Financial Model e.g. sheet name and cell)
B13: Error Check | D13: Breakdown of Capital Expenditure by elements
A14: =IF(B14="",0,1) -> 0 | B14: =IF(AND($F$9="PV",ISBLANK(G14)),"Please complete","") | D14: Total Capital Expenditure (as per definition in PPA) | F14: ZAR '000
A15: =IF(B15="",0,1) -> 0 | B15: =IF(AND($F$9="PV",ISBLANK(G15)),"Please complete","") | D15: Capital Expenditure per element
A16: =IF(B16="",0,1) -> 0 | B16: =IF(AND($F$9="PV",ISBLANK(G16)),"Please complete","") | D16: Panel | F16: ZAR '000
A17: =IF(B17="",0,1) -> 0 | B17: =IF(AND($F$9="PV",ISBLANK(G17)),"Please complete","") | D17: Inverters | F17: ZAR '000
A18: =IF(B18="",0,1) -> 0 | B18: =IF(AND($F$9="PV",ISBLANK(G18)),"Please complete","") | D18: Distribution | F18: ZAR '000
A19: =IF(B19="",0,1) -> 0 | B19: =IF(AND($F$9="PV",ISBLANK(G19)),"Please complete","") | D19: Mounting | F19: ZAR '000
A20: =IF(B20="",0,1) -> 0 | B20: =IF(AND($F$9="PV",ISBLANK(G20)),"Please complete","") | D20: Storage | F20: ZAR '000
A21: =IF(B21="",0,1) -> 0 | B21: =IF(AND($F$9="PV",ISBLANK(G21)),"Please complete","") | D21: Transformers (before Grid connection) | F21: ZAR '000
A22: =IF(B22="",0,1) -> 0 | B22: =IF(AND($F$9="PV",ISBLANK(G22)),"Please complete","") | D22: Other | F22: ZAR '000
G23: =IF(G14<>SUM('PV Cashflow AFS FI'!$H$85:$H$88),"Total Capital Expenditure does not correlate to the cashflow waterfall","")
D24: Capital Expenditure - BESS | H24: (reference in Financial Model e.g. sheet name and cell)
B25: Error Check | D25: Breakdown of Capital Expenditure by currencies - link to Financial Model
A26: =IF(B26="",0,1) -> 0 | B26: =IF(AND($F$9="BESS",ISBLANK(G26)),"Please complete","") | D26: Total Capital Expenditure (as per definition in PPA) | F26: ZAR '000
A27: =IF(B27="",0,1) -> 0 | B27: =IF(AND($F$9="BESS",ISBLANK(G27)),"Please complete","") | D27: Capital Expenditure per element
A28: =IF(B28="",0,1) -> 0 | B28: =IF(AND($F$9="BESS",ISBLANK(G28)),"Please complete","") | D28: EPC / Key equipment costs | F28: ZAR '000
A29: =IF(B29="",0,1) -> 0 | B29: =IF(AND($F$9="BESS",ISBLANK(G29)),"Please complete","") | D29: Balance of plant cost | F29: ZAR '000
A30: =IF(B30="",0,1) -> 0 | B30: =IF(AND($F$9="BESS",ISBLANK(G30)),"Please complete","") | D30: Other construction/installation costs | F30: ZAR '000
A31: =IF(B31="",0,1) -> 0 | B31: =IF(AND($F$9="BESS",ISBLANK(G31)),"Please complete","") | D31: EPC Contingencies | F31: ZAR '000
A32: =IF(B32="",0,1) -> 0 | B32: =IF(AND($F$9="BESS",ISBLANK(G32)),"Please complete","") | D32: Other | F32: ZAR '000
D34: Debt Service Reserve Account | H34: (reference in Financial Model e.g. sheet name and cell)
B35: Error Check | D35: Maintenance Reserve Account
A36: =IF(B36="",0,1) -> 1 | B36: =IF(ISBLANK(G36),"Please complete","") -> Please complete | D36: Cash and working capital | F36: ZAR
A37: =IF(B37="",0,1) -> 1 | B37: =IF(ISBLANK(G37),"Please complete","") -> Please complete | D37: Capital Expenditure per Currency
A38: =IF(B38="",0,1) -> 1 | B38: =IF(ISBLANK(G38),"Please complete","") -> Please complete | D38: ZAR denominated Capital Expenditure | F38: ZAR
A39: =IF(B39="",0,1) -> 1 | B39: =IF(ISBLANK(G39),"Please complete","") -> Please complete | D39: Euro denominated Capital Expenditure | F39: EUR
A40: =IF(B40="",0,1) -> 1 | B40: =IF(ISBLANK(G40),"Please complete","") -> Please complete | D40: USD denominated Capital Expenditure | F40: USD
A41: =IF(B41="",0,1) -> 1 | B41: =IF(ISBLANK(G41),"Please complete","") -> Please complete | D41: GBP denominated Capital Expenditure | F41: GBP
A42: =IF(B42="",0,1) -> 1 | B42: =IF(ISBLANK(G42),"Please complete","") -> Please complete | D42: JPY denominated Capital Expenditure | F42: JPY
A43: =IF(B43="",0,1) -> 1 | B43: =IF(ISBLANK(G43),"Please complete","") -> Please complete | D43: CNY denominated Capital Expenditure | F43: CNY
A44: =IF(B44="",0,1) -> 1 | B44: =IF(ISBLANK(G44),"Please complete","") -> Please complete | D44: Other currency denominated Capital Expenditure (replace with name of currency) | F44: currency
A45: =IF(B45="",0,1) -> 1 | B45: =IF(ISBLANK(G45),"Please complete","") -> Please complete | D45: Other currency denominated Capital Expenditure (replace with name of currency) | F45: currency
...

Sheet Success and Dev fee appendix
B1: Back to Cover Page
B3: Success and Dev fee appendix
B4: Project Name: | E4: Site Name:
B5: RFP Reference Number: | E5: Site Capcaity MWac
B6: Bidder Reference Number:
B8: Success Payments
B9: "Success Payments" means all developers' fees, success fees, incentive fees, participation fees, premia predicated on financial close or being appointed preferred bidder in respect of the Project, and similar fees or premia paid to any person by any person, whether or not the payer or payee is a member of the consortium that formed the Seller, a developer of the Project, a Shareholder, a Contractor or a third party, as well as all monies or fees or premiums paid by way of dividend sharing, upside sharing or return sharing paid by Shareholders to any other person (regardless of who they are), or any payments of any similar nature or purpose, excluding any arranging fees, underwriting fees and participation fees payable or paid to the Lenders directly in respect of the Debt, and any success fees or arranging fees payable or paid to advisors in respect of the Project, provided such fees paid to Lenders or advisors are within the current market range of such fees.
B10: Name of party receiving Success Payments | C10: Currency of payment | D10: Amount paid or to be paid | E10: Rationale for Success Payment | F10: Cash flow impact (i.e. when is payment expected to be made) | G10: Bidder financial model reference
B11: Success Payments paid or to be paid directly by the Project Company (should pull through in Financial Model and total should equal Success Payments amount stated in source of funds in Appendix JB1)
D12: 0
D13: 0
D14: 0
D15: 0
D16: 0
D17: 0
D18: 0
D19: 0
B21: Other Success Payments not in Financial Model
D22: 0
D23: 0
D24: 0
D25: 0
D26: 0
D27: 0
D28: 0
D29: 0
F31: (reference in Financial Model e.g. sheet name and cell)
B32: Development Fee
B34: Name of party receiving Development Fee | C34: Currency | D34: Amount | E34: Basis of calculation | F34: Bidder financial model reference | H34: Bidder financial model reference
B36: Other (replace with name) | D36: 0
B37: Other (replace with name)
B38: Other (replace with name)
B39: Other (replace with name)
B40: Other (replace with name)
B43: Other Development Fee not in Financial Model
B50: Development Cost from Bid Date to FC
B52: Internal Cost
B53: Month | C53: Currency | D53: Amount | E53: Source
B55: Month 1 | C55: ZAR | D55: 0
B56: Month 2 | C56: ZAR | D56: 0
...

Sheet Debt funding appendix
B1: Back to Cover Page
B3: Debt Funding Appendix
B4: Project Name: | E4: Site Name:
B5: RFP Reference Number: | E5: Site Capcaity MWac
B6: Bidder Reference Number:
B8: Debt Term Sheets Instructions
B9: This sheet is to be completed per site and per technology
B10: This sheet is to be copied to the bidders financial model.
B11: This can be done by right clicking on the tabs, select "Move or Copy", select your financial model under the "To Book" dropdown and click OK
B12: The Bidders model should link directly to this tab so that the sources of information can be easily traced
B13: All information should correspond to the unit for that line - e.g. if the unit for the line is ZAR '000 then the amount should be in thousands of dollars
B14: The debt terms linked in this appendix need to be linked to the financial model.
B15: The debt terms used in the financial model need to correspond to a specific term sheet and cannot be blended terms based on a combination of funders
B17: Field Description | C17: Unit | D17: Lender 1 | E17: Lender 2 | F17: Lender 3 | G17: Lender 4 | H17: Lender 5 | I17: Lender 6 | J17: Lender 7 | K17: Lender 8 | L17: Lender 9 | M17: Lender 10
B18: Facility Details
B19: Name of lender (where a single lender provides more than one senior debt facility please enter each facility separately with the same lender name and where a single facility is provided by multiple lenders please enter each lender separately) | C19: text
B20: Specify senior debt / mezzanine / sub-ordinated | C20: text
B21: Currency | C21: text
B22: Indexation | C22: select
B23: Debt from Corporate Finance or External Debt as defined in Part A | C23: select
B24: Reference in Bid Submission (Letter of Support and Term Sheet) | C24: text
B25: Gearing constraints | C25: text
B27: Where Debt is Corporate Finance:
B28: Source of Funds | C28: text
B30: Facility Size
B31: Max facility amount - base currency | C31: currency
B32: Max facility amount - ZAR equivalent | C32: ZAR
B33: Facility amount assumed used - base currency | C33: currency
B34: Facility amount assumed used - ZAR equivalent | C34: ZAR
B35: Percentage contribution to total debt based on model drawdowns | C35: %
B37: Timing
B38: Loan tenor from SCOD | C38: years
B39: Debt tail | C39: years
B40: Availability period | C40: months
B41: Grace period | C41: months
B42: Maturity date | C42: date
B44: Fees
B45: Agency Fees | C45: ZAR pa
B46: Commitment fees | C46: % p.a.
B47: Arranging and underwriting fees | C47: %
...

Sheet Technical appendix
B1: Back to Cover Page
B3: Validity Check | D3: Technical information
B4: =IF(SUM(A7:A14,A18:A28,A30:A46)=0,0,1) -> 1
B5: =SUM(A7:A47) -> 35 | D5: FIELD DESCRIPTION | E5: UNIT | F5: VALUE | G5: REFERENCE IN BID SUBMISSION
B6: Error Check | D6: Project details | G6: Reference (reference in Financial Model e.g. sheet name and cell and / or reference in the RFP submission e.g. volume and page number)
A7: =IF(B7="",0,1) -> 1 | B7: =IF(ISBLANK(F7),"Please Complete","") -> Please Complete | D7: Gross capacity (for Wind and PV please use Nameplate Capacity) | E7: MW
A8: =IF(B8="",0,1) -> 1 | B8: =IF(ISBLANK(F8),"Please Complete","") -> Please Complete | D8: Contracted Capacity (as per the Financial Model) | E8: MW
A9: =IF(B9="",0,1) -> 1 | B9: =IF(ISBLANK(F9),"Please Complete","") -> Please Complete | D9: Contracted Capacity | E9: MW
A10: =IF(B10="",0,1) -> 1 | B10: =IF(ISBLANK(F10),"Please Complete","") -> Please Complete | D10: Maximum Export Capacity | E10: MW
A11: =IF(B11="",0,1) -> 1 | B11: =IF(ISBLANK(F11),"Please Complete","") -> Please Complete | D11: Planned voltage connection level | E11: kV
A12: =IF(B12="",0,1) -> 1 | B12: =IF(ISBLANK(F12),"Please Complete","") -> Please Complete | D12: Planned connection point (i.e. the name of the substation or distribution line onto which the Project is intended to connect) | E12: text
A13: =IF(B13="",0,1) -> 1 | B13: =IF(ISBLANK(F13),"Please Complete","") -> Please Complete | D13: Scheduled grid connection date | E13: Date
A14: =IF(B14="",0,1) -> 1 | B14: =IF(ISBLANK(F14),"Please Complete","") -> Please Complete | D14: Availability expected hours of availability taking into account all predicted outages (including grid outage) in first full year of operation/8760 hours | E14: %
B16: =IF(F16="Please Select","Technology has not been selected","") | D16: Technology | E16: Selection | F16: PV
A18: =IF(B18="",0,1) -> 0 | D18: SOLAR PHOTOVOLTAIC (IF APPLICABLE) | E18: Unit | F18: Value
A19: =IF(B19="",0,1) -> 1 | B19: =IF(AND($F$16="PV",ISBLANK(F19)),"Please Complete","") -> Please Complete | D19: PV Module Type including manufacturer [e.g. Polycrystalline, Monocrystalline, Thin Film] | E19: text
A20: =IF(B20="",0,1) -> 1 | B20: =IF(AND($F$16="PV",ISBLANK(F20)),"Please Complete","") -> Please Complete | D20: Number of PV Modules | E20: unit
A21: =IF(B21="",0,1) -> 1 | B21: =IF(AND($F$16="PV",ISBLANK(F21)),"Please Complete","") -> Please Complete | D21: Number of module strings (where a string constitutes a number of modules connected to a common inverter) | E21: unit
A22: =IF(B22="",0,1) -> 1 | B22: =IF(AND($F$16="PV",ISBLANK(F22)),"Please Complete","") -> Please Complete | D22: Mounting Type (fixed, single axis tracking or double axis tracking) | E22: text
A23: =IF(B23="",0,1) -> 1 | B23: =IF(AND($F$16="PV",ISBLANK(F23)),"Please Complete","") -> Please Complete | D23: PV inverter (manufacturer and model) | E23: text
A24: =IF(B24="",0,1) -> 1 | B24: =IF(AND($F$16="PV",ISBLANK(F24)),"Please Complete","") -> Please Complete | D24: Maximum instantaneous AC rated capacity of inverter | E24: MW
A25: =IF(B25="",0,1) -> 1 | B25: =IF(AND($F$16="PV",ISBLANK(F25)),"Please Complete","") -> Please Complete | D25: Maximum continuous AC rated capacity of inverter | E25: MW
A26: =IF(B26="",0,1) -> 1 | B26: =IF(AND($F$16="PV",ISBLANK(F26)),"Please Complete","") -> Please Complete | D26: Number of inverters | E26: unit
A27: =IF(B27="",0,1) -> 1 | B27: =IF(AND($F$16="PV",ISBLANK(F27)),"Please Complete","") -> Please Complete | D27: Transformer ratings | E27: text
A28: =IF(B28="",0,1) -> 1 | B28: =IF(AND($F$16="PV",ISBLANK(F28)),"Please Complete","") -> Please Complete | D28: Number of transformers | E28: unit
D29: Costing Information
A30: =IF(B30="",0,1) -> 1 | B30: =IF(AND($F$16="PV",ISBLANK(F30)),"Please Complete","") -> Please Complete | D30: Nationality of module manufacturer | E30: text
A31: =IF(B31="",0,1) -> 1 | B31: =IF(AND($F$16="PV",ISBLANK(F31)),"Please Complete","") -> Please Complete | D31: Base currency of cost of modules | E31: text
A32: =IF(B32="",0,1) -> 1 | B32: =IF(AND($F$16="PV",ISBLANK(F32)),"Please Complete","") -> Please Complete | D32: Total cost of modules in base currency (link to Financial Model) | E32: stated currency
A33: =IF(B33="",0,1) -> 1 | B33: =IF(AND($F$16="PV",ISBLANK(F33)),"Please Complete","") -> Please Complete | D33: FX rate assumed to convert cost of modules to Rands (link to Financial Model) | E33: XXX:ZAR
A34: =IF(B34="",0,1) -> 1 | B34: =IF(AND($F$16="PV",ISBLANK(F34)),"Please Complete","") -> Please Complete | D34: Total cost of modules in Rands (link to Financial Model) | E34: ZAR
A35: =IF(B35="",0,1) -> 1 | B35: =IF(AND($F$16="PV",ISBLANK(F35)),"Please Complete","") -> Please Complete | D35: Cost per module in Rands | E35: ZAR
A36: =IF(B36="",0,1) -> 1 | B36: =IF(AND($F$16="PV",ISBLANK(F36)),"Please Complete","") -> Please Complete | D36: Watt of module | E36: W
A37: =IF(B37="",0,1) -> 1 | B37: =IF(AND($F$16="PV",ISBLANK(F37)),"Please Complete","") -> Please Complete | D37: Cost per Watt of module in Rands | E37: ZAR/W
A38: =IF(B38="",0,1) -> 1 | B38: =IF(AND($F$16="PV",ISBLANK(F38)),"Please Complete","") -> Please Complete | D38: Nationality of inverter manufacturer | E38: text
A39: =IF(B39="",0,1) -> 1 | B39: =IF(AND($F$16="PV",ISBLANK(F39)),"Please Complete","") -> Please Complete | D39: Base currency of cost of inverters | E39: text
A40: =IF(B40="",0,1) -> 1 | B40: =IF(AND($F$16="PV",ISBLANK(F40)),"Please Complete","") -> Please Complete | D40: Total cost of inverters in base currency (link to Financial Model) | E40: stated currency
A41: =IF(B41="",0,1) -> 1 | B41: =IF(AND($F$16="PV",ISBLANK(F41)),"Please Complete","") -> Please Complete | D41: FX rate assumed to convert cost of inverters to Rands (link to Financial Model) | E41: XXX:ZAR
... A46: =IF(B46="",0,1) -> 1 | B46: =IF(AND($F$16="PV",ISBLANK(F46)),"Please Complete","") -> Please Complete | D46: Total cost of transformers in Rands (link to Financial Model) | E46: ZAR
D48: BESS (IF APPLICABLE) | E48: Unit | F48: Value
...

Sheet BEE appendix
B1: Back to Cover Page
B3: Validity Check | F3: Construction Start | G3: COD | H3: Template Model start | I3: =IF(MONTH(H4)=4,H4,"Error") -> 44652 | J3: =I4+1 -> 45017 | K3: =J4+1 -> 45383 | L3: =K4+1 -> 45748 | M3: =L4+1 -> 46113 | N3: =M4+1 -> 46478 | O3: =N4+1 -> 46844 | P3: =O4+1 -> 47209 | Q3: =P4+1 -> 47574 | ... AG3: =AF4+1 -> 53418
B4: =IF(SUM(A25,A81,A130,A179,A228)=0,0,1) -> 1 | F4: 44774 | G4: =DATE(YEAR(F4),MONTH(F4)+F6,DAY(F4)) -> 45444 | H4: 44652 | I4: =EOMONTH(I3,11) -> 45016 | J4: =EOMONTH(J3,11) -> 45382 | K4: =EOMONTH(K3,11) -> 45747 | L4: =EOMONTH(L3,11) -> 46112 | M4: =EOMONTH(M3,11) -> 46477 | N4: =EOMONTH(N3,11) -> 46843 | O4: =EOMONTH(O3,11) -> 47208 | P4: =EOMONTH(P3,11) -> 47573 | ... AG4: =EOMONTH(AG3,11) -> 53782
B5: =SUM(A20:A228) -> 1 | F5: Construction Period | G5: End of PPA | H5: PPA Period | I5: =YEAR(I4) -> 2023 | J5: =YEAR(J4) -> 2024 | K5: =YEAR(K4) -> 2025 | L5: =YEAR(L4) -> 2026 | M5: =YEAR(M4) -> 2027 | N5: =YEAR(N4) -> 2028 | O5: =YEAR(O4) -> 2029 | P5: =YEAR(P4) -> 2030 | ... AG5: =YEAR(AG4) -> 2047
F6: 22 | G6: =DATE(YEAR(G4)+H6,MONTH(G4),DAY(G4)-1) -> 52748 | H6: =20 -> 20
A7: Enter all figures in ZAR '000. Only input into grey cells | G7: Construction Period | I7: =IF(AND(I4>$F$4,I3<$G$4),1,0) -> 1 | J7: =IF(AND(J4>$F$4,J3<$G$4),1,0) -> 1 | K7: =IF(AND(K4>$F$4,K3<$G$4),1,0) -> 1 | L7: =IF(AND(L4>$F$4,L3<$G$4),1,0) -> 0 | M7: =IF(AND(M4>$F$4,M3<$G$4),1,0) -> 0 | N7: =IF(AND(N4>$F$4,N3<$G$4),1,0) -> 0 | O7: =IF(AND(O4>$F$4,O3<$G$4),1,0) -> 0 | P7: =IF(AND(P4>$F$4,P3<$G$4),1,0) -> 0 | ... AG7: =IF(AND(AG4>$F$4,AG3<$G$4),1,0) -> 0
G8: COD Flag | H8: Start of Project Operations | I8: =IF(AND(I3<=$G$4,I4>=$G$4),1,0) -> 0 | J8: =IF(AND(J3<=$G$4,J4>=$G$4),1,0) -> 0 | K8: =IF(AND(K3<=$G$4,K4>=$G$4),1,0) -> 1 | L8: =IF(AND(L3<=$G$4,L4>=$G$4),1,0) -> 0 | M8: =IF(AND(M3<=$G$4,M4>=$G$4),1,0) -> 0 | N8: =IF(AND(N3<=$G$4,N4>=$G$4),1,0) -> 0 | O8: =IF(AND(O3<=$G$4,O4>=$G$4),1,0) -> 0 | P8: =IF(AND(P3<=$G$4,P4>=$G$4),1,0) -> 0 | ... AG8: =IF(AND(AG3<=$G$4,AG4>=$G$4),1,0) -> 0
G9: Operations Active | I9: =IF(AND(I4>=$G$4,I3<=$G$6),1,0) -> 0 | J9: =IF(AND(J4>=$G$4,J3<=$G$6),1,0) -> 0 | K9: =IF(AND(K4>=$G$4,K3<=$G$6),1,0) -> 1 | L9: =IF(AND(L4>=$G$4,L3<=$G$6),1,0) -> 1 | M9: =IF(AND(M4>=$G$4,M3<=$G$6),1,0) -> 1 | N9: =IF(AND(N4>=$G$4,N3<=$G$6),1,0) -> 1 | O9: =IF(AND(O4>=$G$4,O3<=$G$6),1,0) -> 1 | P9: =IF(AND(P4>=$G$4,P3<=$G$6),1,0) -> 1 | ... AG9: =IF(AND(AG4>=$G$4,AG3<=$G$6),1,0) -> 0
A10: How to use this sheet
A11: This sheet is to be completed per site and per technology
A12: This sheet is to be copied to the bidders financial model.
A13: This can be done by right clicking on the tabs, select "Move or Copy", select your financial model under the "To Book" dropdown and click OK
A14: The Bidders model should link directly to this tab so that the sources of information can be easily traced
A15: All amounts should correspond to the unit for that line - e.g. if the unit for the line is ZAR '000 then the amount should be in thousands of dollars
A16: Expenses for the Bidder (e.g. Capex or Opex) should be negative numbers if they decrease cashflow while amounts that increase cashflow should be positive
A17: All Shareholders should have a name assigned, names such as "TBC" will not be accepted
B20: Error Check | F20: BEE Shareholders | H20: Total Percentage Held | I20: Debt (%) | J20: Equity (%)
F21: BEE Shareholder 1 | G21: %
F22: BEE Shareholder 2 | G22: %
F23: BEE Shareholder 3 | G23: %
F24: BEE Shareholder 4 | G24: %
A25: =IF(B25="",0,1) -> 1 | B25: =IF(H25<>1,"Total not equal to 100%","") -> Total not equal to 100% | H25: =SUM(H21:H24) -> 0
F27: BEE Shareholders | H27: Total Funding | I27: Pure Equity | J27: Shareholder loans
F28: =F21 -> BEE Shareholder 1 | G28: ZAR '000
F29: =F22 -> BEE Shareholder 2 | G29: ZAR '000
F30: =F23 -> BEE Shareholder 3 | G30: ZAR '000
F31: =F24 -> BEE Shareholder 4 | G31: ZAR '000
B34: =F21 -> BEE Shareholder 1
E36: Funding commitments
F37: ="Total Funding Call to " & F21 -> Total Funding Call to BEE Shareholder 1 | G37: ZAR '000 | H37: =SUMIF($I$7:$AG$7,1,I37:AG37) -> 0
E39: Funding returns
F40: Dividends | G40: ZAR '000 | H40: =SUMIF($I$9:$AG$9,1,I40:AG40) -> 0
F41: Shareholder loan interest | G41: ZAR '000 | H41: =SUMIF($I$9:$AG$9,1,I41:AG41) -> 0
F42: Shareholder loan principal | G42: ZAR '000 | H42: =SUMIF($I$9:$AG$9,1,I42:AG42) -> 0
F43: Total | H43: =SUMIF($I$9:$AG$9,1,I43:AG43) -> 0 | I43: =IF(I$9=1,SUM(I40:I42),0) -> 0 | J43: =IF(J$9=1,SUM(J40:J42),0) -> 0 | K43: =IF(K$9=1,SUM(K40:K42),0) -> 0 | L43: =IF(L$9=1,SUM(L40:L42),0) -> 0 | M43: =IF(M$9=1,SUM(M40:M42),0) -> 0 | N43: =IF(N$9=1,SUM(N40:N42),0) -> 0 | O43: =IF(O$9=1,SUM(O40:O42),0) -> 0 | P43: =IF(P$9=1,SUM(P40:P42),0) -> 0 | ... AG43: =IF(AG$9=1,SUM(AG40:AG42),0) -> 0
E45: Cash waterfall
F46: Dividends received | G46: ZAR '000 | H46: =SUMIF($I$9:$AG$9,1,I46:AG46) -> 0
F47: Shareholder loan interest recevied | G47: ZAR '000 | H47: =SUMIF($I$9:$AG$9,1,I47:AG47) -> 0
F48: Corporate tax payment | G48: ZAR '000 | H48: =SUMIF($I$9:$AG$9,1,I48:AG48) -> 0
F49: Withholding tax on dividends paid | G49: ZAR '000 | H49: =SUMIF($I$9:$AG$9,1,I49:AG49) -> 0
...

Sheet Macro-economic inputs
B1: Back to Cover Page
B3: Foreign exchange spot and forward rates (mid rates) | E3: Source
B5: Tenor | C5: text | J5: SP | K5: SN | L5: 1W | M5: 2W | N5: 3W | O5: 1M | P5: 2M | Q5: 3M | R5: 4M | S5: 5M | T5: 6M | U5: 9M | V5: 1Y | W5: 15M | X5: 18M | Y5: 2Y | Z5: 3Y | AA5: 4Y | AB5: 5Y | AC5: 6Y | AD5: 7Y | AE5: 8Y | AF5: 9Y | AG5: 10Y | AH5: 15Y | AI5: 20Y | AJ5: 25Y | AK5: 30Y
B6: Days | C6: days | J6: 0 | K6: 1 | L6: 7 | M6: 14 | N6: 21 | O6: 30 | P6: 63 | Q6: 92 | R6: 120 | S6: 155 | T6: 182 | U6: 273 | V6: 365 | W6: 457 | X6: 547 | Y6: 730 | Z6: 1095 | AA6: 1463 | AB6: 1827 | AC6: 2191 | AD6: 2556 | AE6: 2922 | AF6: 3287 | AG6: 3654 | AH6: 5478 | AI6: 7305 | AJ6: 9131 | AK6: 10957
B8: USD/ZAR | C8: USD/ZAR | E8: [x] Currency Forecasts Monthly Mar 2023 with additional interpolation | J8: 18.6 | K8: 18.60215 | L8: 18.613835 | M8: 18.626347 | N8: 18.638804 | O8: 18.5 | P8: 18.45 | Q8: 18.4 | R8: 18.32 | S8: 18.3 | T8: 17.9 | U8: 18 | V8: 18.077317 | W8: 18.154634 | X8: 18.23195 | Y8: 18.387334 | Z8: 18.694304 | AA8: 19.007171 | AB8: 19.366042 | AC8: 19.667941 | AD8: 19.974547 | AE8: 20.285933 | AF8: 20.602173 | AG8: 20.923342 | AH8: 22.605872 | AI8: 24.423701 | AJ8: 26.387708 | AK8: 28.509649
B10: IRS Zero Coupon Rates & Discount Factors
J11: ZC
B12: Tenor | J12: 3M | K12: 6M | L12: 9M | M12: 12M | N12: 15M | O12: 18M | P12: 2Y | Q12: 3Y | R12: 4Y | S12: 5Y | T12: 6Y | U12: 7Y | V12: 8Y | W12: 9Y | X12: 10Y | Y12: 12Y | Z12: 15Y | AA12: 20Y | AB12: 25Y | AC12: 30Y
H13: column
B14: ZAR 3m Jibar | C14: % naca | E14: Long term forecasts of Jibar | H14: 2 | J14: 7.8801 | K14: 7.9104 | L14: 8.0949 | M14: 8.1164 | N14: 8.1738 | O14: 8.1957 | P14: 8.1659 | Q14: 7.8598 | R14: 7.6345 | S14: 7.5225 | T14: 7.668 | U14: 7.7567 | V14: 7.7567 | W14: 8.0337 | X14: 8.1886 | Y14: 8.1886 | Z14: 8.7153 | AA14: 8.983 | AB14: 8.983 | AC14: 9.5577
B15: USD 3m Libor | C15: % naca | E15: Sourced Central bank rates with additional interpolation | H15: 6 | J15: 3 | K15: 3.25 | L15: 3.2 | M15: 3.05 | N15: 2.65 | O15: 2.2 | P15: 2.175 | Q15: 2.0786979 | R15: 2.0394073 | S15: 2.0279306 | T15: 2.0237639 | U15: 2.0214935 | V15: 2.0219037 | W15: 2.0271658 | X15: 2.039914 | Y15: 2.0655272 | Z15: 2.089043 | AA15: 2.0676246 | AB15: 1.9714418 | AC15: 1.877539
B16: Euribor 3m | C16: % naca | E16: Euribor Base Rate | H16: 10 | J16: -0.1429841 | K16: 0.34858711 | L16: 0.66840349 | M16: 0.87131866 | N16: 1.022156 | O16: 1.1316618 | P16: 1.2672901 | Q16: 1.4141264 | R16: 1.5597444 | S16: 1.6951675 | T16: 1.8056639 | U16: 1.900345 | V16: 1.9909202 | W16: 2.0787074 | X16: 2.1642116 | Y16: 2.3049969 | Z16: 2.4110898 | AA16: 2.3371183 | AB16: 2.1789881 | AC16: 2.0242472
B18: Foreign exchange spot and forward rates (mid rates) | D18: FX Source:
B20: Tenor | C20: text | J20: SP | K20: SN | L20: 1W | M20: 2W | N20: 3W | O20: 1M | P20: 2M | Q20: 3M | R20: 4M | S20: 5M | T20: 6M | U20: 9M | V20: 1Y | W20: 15M | X20: 18M | Y20: 2Y | Z20: 3Y | AA20: 4Y | AB20: 5Y | AC20: 6Y | AD20: 7Y | AE20: 8Y | AF20: 9Y | AG20: 10Y | AH20: 15Y | AI20: 20Y | AJ20: 25Y | AK20: 30Y
B21: Days | C21: days | J21: 0 | K21: 1 | L21: 7 | M21: 14 | N21: 21 | O21: 30 | P21: 63 | Q21: 92 | R21: 120 | S21: 155 | T21: 182 | U21: 273 | V21: 365 | W21: 457 | X21: 547 | Y21: 730 | Z21: 1095 | AA21: 1463 | AB21: 1827 | AC21: 2191 | AD21: 2556 | AE21: 2922 | AF21: 3287 | AG21: 3654 | AH21: 5478 | AI21: 7305 | AJ21: 9131 | AK21: 10957
B23: USD/ZAR | C23: USD/ZAR | J23: 16.8726 | K23: 16.87455 | L23: 16.88515 | M23: 16.8965 | N23: 16.9078 | O23: 16.9223 | P23: 16.9723 | Q23: 17.01755 | R23: 17.0663 | S23: 17.10695 | T23: 17.1489 | U23: 17.28955 | V23: 17.45905 | W23: 17.6601 | X23: 17.8635 | Y23: 18.2658 | Z23: 19.3552 | AA23: 20.511 | AB23: 21.8178 | AC23: 23.29005 | AD23: 24.9822 | AE23: 26.8657 | AF23: 28.76555 | AG23: 30.8449 | AH23: 41.11615 | AI23: 52.0197 | AJ23: 66.9142 | AK23: 77.5077
B24: USD/ZAR Percentage change per period | K24: 0.00011557199 | L24: 0.0006281649 | M24: 0.00067218828 | N24: 0.00066877756 | O24: 0.00085759235 | P24: 0.0029546811 | Q24: 0.0026661089 | R24: 0.0028646897 | S24: 0.0023818871 | T24: 0.0024522197 | U24: 0.0082016922 | V24: 0.0098036097 | W24: 0.011515518 | X24: 0.011517489 | Y24: 0.022520783 | Z24: 0.059641516 | AA24: 0.059715219 | AB24: 0.063712154 | AC24: 0.067479306 | AD24: 0.07265549 | AE24: 0.07539368 | AF24: 0.070716564 | AG24: 0.07228612 | AH24: 0.3329967 | AI24: 0.26518898 | AJ24: 0.28632422 | AK24: 0.15831468
B25: EUR/ZAR | C25: EUR/ZAR | J25: 17.1829 | K25: 17.185911 | L25: 17.202954 | M25: 17.221846 | N25: 17.241771 | O25: 17.269576 | P25: 17.360972 | Q25: 17.446927 | R25: 17.541256 | S25: 17.621141 | T25: 17.722592 | U25: 17.990254 | V25: 18.280468 | W25: 18.595835 | X25: 18.908698 | Y25: 19.496652 | Z25: 20.956034 | AA25: 22.463529 | AB25: 24.137906 | AC25: 25.983541 | AD25: 28.097844 | AE25: 30.41505 | AF25: 32.765997 | AG25: 35.337052 | AH25: 48.610794 | AI25: 64.06388 | AJ25: 84.455973 | AK25: 98.937568
B26: EUR/ZAR Percentage change per period | K26: 0.00017526145 | L26: 0.00099165529 | M26: 0.0010981835 | N26: 0.0011569898 | O26: 0.0016126533 | P26: 0.0052922838 | Q26: 0.0049510189 | R26: 0.0054066543 | S26: 0.0045540924 | T26: 0.0057574026 | U26: 0.015102813 | V26: 0.01613179 | W26: 0.017251582 | X26: 0.016824358 | Y26: 0.03109434 | Z26: 0.074852929 | AA26: 0.071936132 | AB26: 0.074537574 | AC26: 0.076462078 | AD26: 0.081370857 | AE26: 0.082469175 | AF26: 0.077295517 | AG26: 0.078467168 | AH26: 0.37563241 | AI26: 0.31789413 | AJ26: 0.31830874 | AK26: 0.17146917
B27: GBP/ZAR | C27: GBP/ZAR | J27: 20.30855 | K27: 20.311116 | L27: 20.325191 | M27: 20.340516 | N27: 20.357949 | O27: 20.38022 | P27: 20.453703 | Q27: 20.521802 | R27: 20.596272 | S27: 20.658317 | T27: 20.738098 | U27: 20.946763 | V27: 21.180995 | W27: 21.448367 | X27: 21.715739 | Y27: 22.244671 | Z27: 23.661477 | AA27: 25.218724 | AB27: 27.025365 | AC27: 29.115828 | AD27: 31.505854 | AE27: 34.158296 | AF27: 36.873306 | AG27: 39.857163 | AH27: 55.682659 | AI27: 73.348668 | AJ27: 95.194434 | AK27: 109.78068
B28: GBP/ZAR Percentage change per period | K28: 0.00012637461 | L28: 0.00069296314 | M28: 0.00075398528 | N28: 0.00085703356 | O28: 0.0010939953 | P28: 0.0036055712 | Q28: 0.0033294234 | R28: 0.0036288627 | S28: 0.0030124055 | T28: 0.0038619557 | U28: 0.01006188 | V28: 0.011182273 | W28: 0.012623208 | X28: 0.012465849 | Y28: 0.02435707 | Z28: 0.063691931 | AA28: 0.065813587 | AB28: 0.071638907 | AC28: 0.07735186 | AD28: 0.08208685 | AE28: 0.084188849 | AF28: 0.07948319 | AG28: 0.080921863 | AH28: 0.39705525 | AI28: 0.31726232 | AJ28: 0.29783453 | AK28: 0.15322585
B29: CNY/ZAR | C29: CNY/ZAR | J29: 2.52145 | K29: 2.5223835 | L29: 2.527993 | M29: 2.528477 | N29: 2.5301465 | O29: 2.5330115 | P29: 2.5385925 | Q29: 2.5431885 | R29: 2.550925 | S29: 2.558274 | T29: 2.5661525 | U29: 2.591217 | V29: 2.620446 | W29: 2.64547 | X29: 2.6715635 | Y29: 2.7487505 | Z29: 2.8707595 | AA29: 2.971541 | AB29: 3.0535145 | AC29: 3.151951 | AD29: 3.269253 | AE29: 3.4014995 | AF29: 3.5236455 | AG29: 3.6621575 | AH29: 4.1865395 | AI29: 4.4760455 | AJ29: 4.7145545 | AK29: 4.409974
B30: CNY/ZAR Percentage change per period | K30: 0.00037022348 | L30: 0.0022238886 | M30: 0.00019145623 | N30: 0.0006602789 | O30: 0.0011323455 | P30: 0.0022033062 | Q30: 0.0018104521 | R30: 0.0030420474 | S30: 0.0028809157 | T30: 0.0030796154 | U30: 0.0097673463 | V30: 0.011280028 | W30: 0.0095495194 | X30: 0.0098634647 | Y30: 0.02889207 | Z30: 0.044387077 | AA30: 0.035106215 | AB30: 0.027586192 | AC30: 0.032237116 | AD30: 0.03721568 | AE30: 0.040451596 | AF30: 0.035909457 | AG30: 0.039309289 | AH30: 0.14318936 | AI30: 0.069151623 | AJ30: 0.053285651 | AK30: -0.064604301
B31: IRS Zero Coupon Rates & Discount Factors | D31: Rates Source:
J32: ZC
B33: Tenor | J33: 3M | K33: 6M | L33: 9M | M33: 12M | N33: 15M | O33: 18M | P33: 2Y | Q33: 3Y | R33: 4Y | S33: 5Y | T33: 6Y | U33: 7Y | V33: 8Y | W33: 9Y | X33: 10Y | Y33: 12Y | Z33: 15Y | AA33: 20Y | AB33: 25Y | AC33: 30Y
H34: column
B35: ZAR 3m Jibar | C35: % naca | H35: 2 | J35: 5.067 | K35: 5.7908126 | L35: 6.2779737 | M35: 6.6894002 | N35: 7.0063764 | O35: 7.2476083 | P35: 7.580622 | Q35: 7.9754904 | R35: 8.2443678 | S35: 8.5338645 | T35: 8.830895 | U35: 9.1373382 | V35: 9.4307021 | W35: 9.634987 | X35: 9.7663297 | Y35: 9.9860081 | Z35: 10.044797 | AA35: 9.9100555 | AB35: 9.7797957 | AC35: 9.5590057
B36: ZAR 3m Jibar Percentage change per period | K36: 0.14284835 | L36: 0.084126562 | M36: 0.065534918 | N36: 0.047384845 | O36: 0.034430329 | P36: 0.045948081 | Q36: 0.05208919 | R36: 0.033712955 | S36: 0.035114482 | T36: 0.034806103 | U36: 0.03470126 | V36: 0.032106058 | W36: 0.021661677 | X36: 0.013631852 | Y36: 0.022493447 | Z36: 0.0058871113 | AA36: -0.013414044 | AB36: -0.013144205 | AC36: -0.022576137
B37: USD 3m Libor | C37: % naca | H37: 6 | J37: 2.453683 | K37: 3.0713997 | L37: 3.3348198 | M37: 3.4511342 | N37: 3.4843408 | O37: 3.4703852 | P37: 3.3538077 | Q37: 3.2053118 | R37: 3.1447264 | S37: 3.1270296 | T37: 3.1206046 | U37: 3.1171037 | V37: 3.1177362 | W37: 3.1258502 | X37: 3.1455078 | Y37: 3.1850028 | Z37: 3.2212636 | AA37: 3.1882369 | AB37: 3.0399249 | AC37: 2.8951286
B38: USD 3m Jibar Percentage change per period | K38: 0.25175079 | L38: 0.085765512 | M38: 0.034878752 | N38: 0.00962194 | O38: -0.0040052225 | P38: -0.033592097 | Q38: -0.044276822 | R38: -0.018901543 | S38: -0.00562746 | T38: -0.0020546587 | U38: -0.0011218771 | V38: 0.00020290264 | W38: 0.0026025414 | X38: 0.0062887117 | Y38: 0.012556017 | Z38: 0.011384868 | AA38: -0.010252733 | AB38: -0.046518492 | AC38: -0.047631552
B39: Euribor 3m | C39: % naca | H39: 10 | J39: -0.1429841 | K39: 0.34858711 | L39: 0.66840349 | M39: 0.87131866 | N39: 1.022156 | O39: 1.1316618 | P39: 1.2672901 | Q39: 1.4141264 | R39: 1.5597444 | S39: 1.6951675 | T39: 1.8056639 | U39: 1.900345 | V39: 1.9909202 | W39: 2.0787074 | X39: 2.1642116 | Y39: 2.3049969 | Z39: 2.4110898 | AA39: 2.3371183 | AB39: 2.1789881 | AC39: 2.0242472
B40: Euribor 3m Jibar Percentage change per period | K40: -3.4379432 | L40: 0.91746474 | M40: 0.30358186 | N40: 0.17311389 | O40: 0.10713211 | P40: 0.11984885 | Q40: 0.11586637 | R40: 0.10297378 | S40: 0.08682392 | T40: 0.065183187 | U40: 0.052435593 | V40: 0.047662537 | W40: 0.044093769 | X40: 0.04113334 | Y40: 0.065051566 | Z40: 0.046027319 | AA40: -0.030679675 | AB40: -0.067660335 | AC40: -0.071015037
B41: GBP 3m Libor (is no longer quoted) | C41: % naca | H41: 14 | J41: 0 | K41: 0 | L41: 0 | M41: 0 | N41: 0 | O41: 0 | P41: 0 | Q41: 0 | R41: 0 | S41: 0 | T41: 0 | U41: 0 | V41: 0 | W41: 0 | X41: 0 | Y41: 0 | Z41: 0 | AA41: 0 | AB41: 0 | AC41: 0
B43: Escalation | D43: Rates Source:
B45: Date From: | J45: ='PV Cashflow AFS FI'!H4 -> 45839 | K45: =J46+1 -> 46204 | L45: =K46+1 -> 46569 | M45: =L46+1 -> 46935 | N45: =M46+1 -> 47300 | O45: =N46+1 -> 47665 | P45: =O46+1 -> 48030 | Q45: =P46+1 -> 48396 | R45: =Q46+1 -> 48761 | ... AC45: =AB46+1 -> 52779
B46: Date To: | J46: =EOMONTH(J45,11) -> 46203 | K46: =EOMONTH(K45,11) -> 46568 | L46: =EOMONTH(L45,11) -> 46934 | M46: =EOMONTH(M45,11) -> 47299 | N46: =EOMONTH(N45,11) -> 47664 | O46: =EOMONTH(O45,11) -> 48029 | P46: =EOMONTH(P45,11) -> 48395 | Q46: =EOMONTH(Q45,11) -> 48760 | ... AC46: =EOMONTH(AC45,11) -> 53143
B47: - CPI RSA | J47: 0.05 | K47: 0.05 | L47: 0.05 | M47: 0.05 | N47: 0.05 | O47: 0.05 | P47: 0.05 | Q47: 0.05 | R47: 0.05 | S47: 0.05 | T47: 0.05 | U47: 0.05 | V47: 0.05 | W47: 0.05 | X47: 0.05 | Y47: 0.05 | Z47: 0.05 | AA47: 0.05 | AB47: 0.05 | AC47: 0.05
B48: - Eskom Escalation | J48: 0.1 | K48: 0.1 | L48: 0.1 | M48: 0.1 | N48: 0.1 | O48: 0.1 | P48: 0.1 | Q48: 0.1 | R48: 0.1 | S48: 0.1 | T48: 0.1 | U48: 0.1 | V48: 0.1 | W48: 0.1 | X48: 0.1 | Y48: 0.1 | Z48: 0.1 | AA48: 0.1 | AB48: 0.1 | AC48: 0.1

Sheet Issues
B1: Back to Cover Page
D2: Summary
E3: Unresolved | F3: WIP | G3: Completed
D4: Urgent | E4: =COUNTIFS($F$16:$F$115,$D4,$G$16:$G$115,E$3) -> 0 | F4: =COUNTIFS($F$16:$F$115,$D4,$G$16:$G$115,F$3) -> 0 | G4: =COUNTIFS($F$16:$F$115,$D4,$G$16:$G$115,G$3) -> 0
D5: High | E5: =COUNTIFS($F$16:$F$115,$D5,$G$16:$G$115,E$3) -> 0 | F5: =COUNTIFS($F$16:$F$115,$D5,$G$16:$G$115,F$3) -> 0 | G5: =COUNTIFS($F$16:$F$115,$D5,$G$16:$G$115,G$3) -> 0
D6: Low | E6: =COUNTIFS($F$16:$F$115,$D6,$G$16:$G$115,E$3) -> 0 | F6: =COUNTIFS($F$16:$F$115,$D6,$G$16:$G$115,F$3) -> 0 | G6: =COUNTIFS($F$16:$F$115,$D6,$G$16:$G$115,G$3) -> 0
B7: Issues Log
C9: Use this sheet to record unresolved model input issues, and track their resolution
C10: To insert a new issue, use the 'Live' row below and update the Description, Issue Location in the model and Priority, then copy and 'paste values' into the Table of Issues below
C11: Date Created | D11: Issue Description | E11: Issue location in model | F11: Priority | G11: Status
B12: Live: | C12: =NOW() -> 45727.286
C14: Table of Issues
C15: Date Created | D15: Issue Description | E15: Issue location in model | F15: Priority | G15: Status | H15: Resolution | I15: Date Resolved
B16: 1
B17: 2
B18: 3
B19: 4
B20: 5
B21: 6
B22: 7
B23: 8
B24: 9
B25: 10
B26: 11
B27: 12
... B115: 100

Sheet Megaflex Gen NLA
C1: Back to Cover Page | R1: #REF!
B2: Megaflex Gen - Non-local authority
E4: Active energy charge for loads [c/kWh] | Q4: Transmission network charges [R/kVA/m]
C5: Transmission zone | E5: High demand season [Jun - Aug] | K5: Low demand season [Sep - May]
D6: Voltage | E6: Peak | G6: Standard | I6: Off Peak | K6: Peak | M6: Standard | O6: Off Peak
F7: VAT incl | H7: VAT incl | J7: VAT incl | L7: VAT incl | N7: VAT incl | P7: VAT incl | R7: VAT incl
C8: ≤ 300km | D8: < 500V | E8: 611.94 | F8: 703.73 | G8: 186.18 | H8: 214.11 | I8: 101.66 | J8: 116.91 | K8: 200.38 | L8: 230.44 | M8: 138.26 | N8: 159 | O8: 88.15 | P8: 101.37 | Q8: 17.51 | R8: 20.14
D9: ≥ 500V & < 66kV | E9: 602.34 | F9: 692.69 | G9: 182.47 | H9: 209.84 | I9: 99.11 | J9: 113.98 | K9: 196.46 | L9: 225.93 | M9: 135.24 | N9: 155.53 | O9: 85.8 | P9: 98.67 | Q9: 16 | R9: 18.4
D10: ≥ 66kV & ≤ 132kV | E10: 583.26 | F10: 670.75 | G10: 176.67 | H10: 203.17 | I10: 95.96 | J10: 110.35 | K10: 190.28 | L10: 218.82 | M10: 130.92 | N10: 150.56 | O10: 83.11 | P10: 95.58 | Q10: 15.57 | R10: 17.91
D11: > 132kV* | E11: 549.7 | F11: 632.16 | G11: 166.49 | H11: 191.46 | I11: 90.44 | J11: 104.01 | K11: 179.37 | L11: 206.28 | M11: 123.42 | N11: 141.93 | O11: 78.31 | P11: 90.06 | Q11: 19.7 | R11: 22.66
C12: > 300km and ≤ 600km | D12: < 500V | E12: 616.92 | F12: 709.46 | G12: 186.92 | H12: 214.96 | I12: 101.49 | J12: 116.71 | K12: 201.26 | L12: 231.45 | M12: 138.57 | N12: 159.36 | O12: 87.91 | P12: 101.1 | Q12: 17.63 | R12: 20.27
D13: ≥ 500V & < 66kV | E13: 608.35 | F13: 699.6 | G13: 184.27 | H13: 211.91 | I13: 100.07 | J13: 115.08 | K13: 198.48 | L13: 228.25 | M13: 136.57 | N13: 157.06 | O13: 86.64 | P13: 99.64 | Q13: 16.14 | R13: 18.56
D14: ≥ 66kV & ≤ 132kV | E14: 588.99 | F14: 677.34 | G14: 178.4 | H14: 205.16 | I14: 96.85 | J14: 111.38 | K14: 192.12 | L14: 220.94 | M14: 132.23 | N14: 152.06 | O14: 83.9 | P14: 96.49 | Q14: 15.69 | R14: 18.04
D15: > 132kV* | E15: 555.21 | F15: 638.49 | G15: 168.22 | H15: 193.45 | I15: 91.29 | J15: 104.98 | K15: 181.09 | L15: 208.25 | M15: 124.61 | N15: 143.3 | O15: 79.04 | P15: 90.9 | Q15: 19.86 | R15: 22.84
C16: > 600km and ≤ 900km | D16: < 500V | E16: 623.07 | F16: 716.53 | G16: 188.75 | H16: 217.06 | I16: 102.47 | J16: 117.84 | K16: 203.25 | L16: 233.74 | M16: 139.91 | N16: 160.9 | O16: 88.73 | P16: 102.04 | Q16: 17.84 | R16: 20.52
D17: ≥ 500V & < 66kV | E17: 614.46 | F17: 706.63 | G17: 186.17 | H17: 214.1 | I17: 101.08 | J17: 116.24 | K17: 200.44 | L17: 230.51 | M17: 137.97 | N17: 158.67 | O17: 87.52 | P17: 100.65 | Q17: 16.29 | R17: 18.73
D18: ≥ 66kV & ≤ 132kV | E18: 595.01 | F18: 684.26 | G18: 180.25 | H18: 207.29 | I18: 97.86 | J18: 112.54 | K18: 194.08 | L18: 223.19 | M18: 133.61 | N18: 153.65 | O18: 84.77 | P18: 97.49 | Q18: 15.78 | R18: 18.15
D19: > 132kV* | E19: 560.8 | F19: 644.92 | G19: 169.85 | H19: 195.33 | I19: 92.3 | J19: 106.15 | K19: 182.92 | L19: 210.36 | M19: 125.89 | N19: 144.77 | O19: 79.89 | P19: 91.87 | Q19: 20.16 | R19: 23.18
C20: > 900km | D20: < 500V | E20: 629.34 | F20: 723.74 | G20: 190.72 | H20: 219.33 | I20: 103.51 | J20: 119.04 | K20: 205.32 | L20: 236.12 | M20: 141.29 | N20: 162.48 | O20: 89.66 | P20: 103.11 | Q20: 17.95 | R20: 20.64
