Workbook

Sheet Semester 1
A1: Project name | E1: Instructions for inserting additional rows in the detailed reporting tables for "Job Creation", "Skills Development" and "Social Spending": 1. Select the penultimate row of the table (not the "Total" row); 2. Right click and select "Insert"; and 3. Copy down the formulae in the unshaded cells, per column. Be careful to not alter the pre-existing formulae in the unshaded cells.
A2: Technology
A3: Contracted capacity (MW)
A4: Contract Semester | B4: Semester 1
A5: Date Period for the relevant Contract Semester | C5: e.g. 1 July 2026 to 31 December 2026
A7: Note: all ZAR values should be excluding VAT.
B9: Contract Semester Plan | C9: Contract Semester Actual
A10: Total RSA-based Employee Person Months | C10: =K40 -> 0
A11: Total RSA-based Employee Person Months by Verified Residents | C11: =L40 -> 0
A12: Total Unskilled RSA-based Employee Person Months | C12: =M40 -> 0
A13: Total Unskilled RSA-based Employee Person Months by Verified Residents | C13: =N40 -> 0
A14: Revenue (ZAR)
A15: Total Skills Development Contributions (ZAR) | C15: =L51 -> 0
A16: Total Spending on Social Well-Being Programmes (ZAR) | C16: =J62 -> 0
A17: Total Spending on Social Infrastructure (ZAR) | C17: =K62 -> 0
A18: Total Social Spending (ZAR) | B18: =B16+B17 -> 0 | C18: =C16+C17 -> 0
A20: Socio-Economic Development Obligations | B20: Semesterly Obligation (percentage) [A] | C20: Semesterly Achievement (percentage) [B] | D20: Socio-Economic Development Performance [B divided by A]
A21: Job Creation
A22: Percentage of total RSA-based Employee Person Months by Verified Residents | C22: =IFERROR(C11/B11,0) -> 0 | D22: =IFERROR(C22/B22,0) -> 0
A23: Percentage of total Unskilled RSA-based Employee Person Months by Verified Residents | C23: =IFERROR(C13/B13,0) -> 0 | D23: =IFERROR(C23/B23,0) -> 0
A24: Skills Development
A25: Percentage of Revenue spent on Skills Development | C25: =IFERROR(C15/C$14,0) -> 0 | D25: =IFERROR(C25/B25,0) -> 0
A26: Social Spending
A27: Percentage of Revenue spent on Social-Well Being Programmes | C27: =IFERROR(C16/C$14,0) -> 0 | D27: =IFERROR(C27/B27,0) -> 0
A28: Percentage of Revenue spent on Social Infrastructure | C28: =IFERROR(C17/C$14,0) -> 0 | D28: =IFERROR(C28/B28,0) -> 0
A29: Total Social Spending as a Percentage of Revenue | C29: =IFERROR(C18/C$14,0) -> 0 | D29: =IFERROR(C29/B29,0) -> 0
A31: Job Creation (detailed reporting)
A32: Name of Employing Entity (Project Company/ Contractor/ Subcontractor/ Supplier) | B32: Contract Semester | C32: Quarter Period within the relevant Contract Semester | D32: First Name of Employee | E32: Surname of Employee | F32: Verified Resident? (Yes/ No) | G32: SA Identity Number | H32: Job Role (per RFP Job Creation returnable) | I32: Skill Level (Skilled/ Unskilled) | J32: Hours worked | K32: Total RSA-based Employee Person Months | L32: Verified Resident Person Months | M32: Total Unskilled RSA-based Employee Person Months | N32: Unskilled Verified Resident Person Months
K33: =J33/(160*3) -> 0 | L33: =IF(F33="Yes",K33,0) -> 0 | M33: =IF(I33="Unskilled",K33,0) -> 0 | N33: =IF(F33="Yes",M33,0) -> 0
K34: =J34/(160*3) -> 0 | L34: =IF(F34="Yes",K34,0) -> 0 | M34: =IF(I34="Unskilled",K34,0) -> 0 | N34: =IF(F34="Yes",M34,0) -> 0
K35: =J35/(160*3) -> 0 | L35: =IF(F35="Yes",K35,0) -> 0 | M35: =IF(I35="Unskilled",K35,0) -> 0 | N35: =IF(F35="Yes",M35,0) -> 0
K36: =J36/(160*3) -> 0 | L36: =IF(F36="Yes",K36,0) -> 0 | M36: =IF(I36="Unskilled",K36,0) -> 0 | N36: =IF(F36="Yes",M36,0) -> 0
K37: =J37/(160*3) -> 0 | L37: =IF(F37="Yes",K37,0) -> 0 | M37: =IF(I37="Unskilled",K37,0) -> 0 | N37: =IF(F37="Yes",M37,0) -> 0
K38: =J38/(160*3) -> 0 | L38: =IF(F38="Yes",K38,0) -> 0 | M38: =IF(I38="Unskilled",K38,0) -> 0 | N38: =IF(F38="Yes",M38,0) -> 0
K39: =J39/(160*3) -> 0 | L39: =IF(F39="Yes",K39,0) -> 0 | M39: =IF(I39="Unskilled",K39,0) -> 0 | N39: =IF(F39="Yes",M39,0) -> 0
A40: Contract Semester Total | K40: =SUM(K33:K39) -> 0 | L40: =SUM(L33:L39) -> 0 | M40: =SUM(M33:M39) -> 0 | N40: =SUM(N33:N39) -> 0
A42: Skills Development (detailed reporting)
A43: Name of Skills Development Contribution Entity (Project Company/ Contractor) | B43: Contract Semester | C43: Quarter Period within the relevant Contract Semester | D43: First Name of Beneficiary | E43: Surname of Beneficiary | F43: Verified Resident? (Yes/ No) | G43: Black Person? (Yes/ No) | H43: SA Identity Number | I43: Skills Development Category (per PPA) | J43: Type of Monetary Contribution (per PPA) | K43: Value of Contribution (ZAR) | L43: Qualifying Skills Development Contributions | M43: Name of Entity to which Contribution is made | N43: Invoice Number
L44: =IF(AND(F44="Yes",G44="Yes"),K44,0) -> 0
L45: =K45/160 -> 0
...

Sheet Semester 2
A1: Project name | B1: ='Semester 1'!$B$1 -> 0 | E1: Instructions for inserting additional rows in the detailed reporting tables for "Job Creation", "Skills Development" and "Social Spending": 1. Select the penultimate row of the table (not the "Total" row); 2. Right click and select "Insert"; and 3. Copy down the formulae in the unshaded cells, per column. Be careful to not alter the pre-existing formulae in the unshaded cells.
A2: Technology | B2: ='Semester 1'!$B$2 -> 0
A3: Contracted capacity (MW) | B3: ='Semester 1'!$B$3 -> 0
A4: Contract Semester | B4: Semester 2
A5: Date Period for the relevant Contract Semester | C5: e.g. 1 July 2026 to 31 December 2026
A7: Note: all ZAR values should be excluding VAT.
B9: Contract Semester Plan | C9: Contract Semester Actual
A10: Total RSA-based Employee Person Months | C10: =K40 -> 0
A11: Total RSA-based Employee Person Months by Verified Residents | C11: =L40 -> 0
A12: Total Unskilled RSA-based Employee Person Months | C12: =M40 -> 0
A13: Total Unskilled RSA-based Employee Person Months by Verified Residents | C13: =N40 -> 0
A14: Revenue (ZAR)
A15: Total Skills Development Contributions (ZAR) | C15: =L51 -> 0
A16: Total Spending on Social Well-Being Programmes (ZAR) | C16: =J62 -> 0
A17: Total Spending on Social Infrastructure (ZAR) | C17: =K62 -> 0
A18: Total Social Spending (ZAR) | B18: =B16+B17 -> 0 | C18: =C16+C17 -> 0
A20: Socio-Economic Development Obligations | B20: Semesterly Obligation (percentage) [A] | C20: Semesterly Achievement (percentage) [B] | D20: Socio-Economic Development Performance [B divided by A]
A21: Job Creation
A22: Percentage of total RSA-based Employee Person Months by Verified Residents | C22: =IFERROR(C11/B11,0) -> 0 | D22: =IFERROR(C22/B22,0) -> 0
A23: Percentage of total Unskilled RSA-based Employee Person Months by Verified Residents | C23: =IFERROR(C13/B13,0) -> 0 | D23: =IFERROR(C23/B23,0) -> 0
A24: Skills Development
A25: Percentage of Revenue spent on Skills Development | C25: =IFERROR(C15/C$14,0) -> 0 | D25: =IFERROR(C25/B25,0) -> 0
A26: Social Spending
A27: Percentage of Revenue spent on Social-Well Being Programmes | C27: =IFERROR(C16/C$14,0) -> 0 | D27: =IFERROR(C27/B27,0) -> 0
A28: Percentage of Revenue spent on Social Infrastructure | C28: =IFERROR(C17/C$14,0) -> 0 | D28: =IFERROR(C28/B28,0) -> 0
A29: Total Social Spending as a Percentage of Revenue | C29: =IFERROR(C18/C$14,0) -> 0 | D29: =IFERROR(C29/B29,0) -> 0
A31: Job Creation (detailed reporting)
A32: Name of Employing Entity (Project Company/ Contractor/ Subcontractor/ Supplier) | B32: Contract Semester | C32: Quarter Period within the relevant Contract Semester | D32: First Name of Employee | E32: Surname of Employee | F32: Verified Resident? (Yes/ No) | G32: SA Identity Number | H32: Job Role (per RFP Job Creation returnable) | I32: Skill Level (Skilled/ Unskilled) | J32: Hours worked | K32: Total RSA-based Employee Person Months | L32: Verified Resident Person Months | M32: Total Unskilled RSA-based Employee Person Months | N32: Unskilled Verified Resident Person Months
K33: =J33/(160*3) -> 0 | L33: =IF(F33="Yes",K33,0) -> 0 | M33: =IF(I33="Unskilled",K33,0) -> 0 | N33: =IF(F33="Yes",M33,0) -> 0
K34: =J34/(160*3) -> 0 | L34: =IF(F34="Yes",K34,0) -> 0 | M34: =IF(I34="Unskilled",K34,0) -> 0 | N34: =IF(F34="Yes",M34,0) -> 0
K35: =J35/(160*3) -> 0 | L35: =IF(F35="Yes",K35,0) -> 0 | M35: =IF(I35="Unskilled",K35,0) -> 0 | N35: =IF(F35="Yes",M35,0) -> 0
K36: =J36/(160*3) -> 0 | L36: =IF(F36="Yes",K36,0) -> 0 | M36: =IF(I36="Unskilled",K36,0) -> 0 | N36: =IF(F36="Yes",M36,0) -> 0
K37: =J37/(160*3) -> 0 | L37: =IF(F37="Yes",K37,0) -> 0 | M37: =IF(I37="Unskilled",K37,0) -> 0 | N37: =IF(F37="Yes",M37,0) -> 0
K38: =J38/(160*3) -> 0 | L38: =IF(F38="Yes",K38,0) -> 0 | M38: =IF(I38="Unskilled",K38,0) -> 0 | N38: =IF(F38="Yes",M38,0) -> 0
K39: =J39/(160*3) -> 0 | L39: =IF(F39="Yes",K39,0) -> 0 | M39: =IF(I39="Unskilled",K39,0) -> 0 | N39: =IF(F39="Yes",M39,0) -> 0
A40: Contract Semester Total | K40: =SUM(K33:K39) -> 0 | L40: =SUM(L33:L39) -> 0 | M40: =SUM(M33:M39) -> 0 | N40: =SUM(N33:N39) -> 0
A42: Skills Development (detailed reporting)
A43: Name of Skills Development Contribution Entity (Project Company/ Contractor) | B43: Contract Semester | C43: Quarter Period within the relevant Contract Semester | D43: First Name of Beneficiary | E43: Surname of Beneficiary | F43: Verified Resident? (Yes/ No) | G43: Black Person? (Yes/ No) | H43: SA Identity Number | I43: Skills Development Category (per PPA) | J43: Type of Monetary Contribution (per PPA) | K43: Value of Contribution (ZAR) | L43: Qualifying Skills Development Contributions | M43: Name of Entity to which Contribution is made | N43: Invoice Number
L44: =IF(AND(F44="Yes",G44="Yes"),K44,0) -> 0
L45: =K45/160 -> 0
...

Sheet Annual Summary
A1: Project name | B1: ='Semester 1'!$B$1 -> 0 | F1: Contract Year 1
A2: Technology | B2: ='Semester 1'!$B$2 -> 0 | F2: Contract Year 2
A3: Contracted capacity (MW) | B3: ='Semester 1'!$B$3 -> 0 | F3: Contract Year 3
A4: Contract Year | F4: Contract Year 4
A5: Date Period for the relevant Contract Year | C5: e.g. 1 July 2026 to 30 June 2027 | F5: Contract Year 5
F6: Contract Year 6
A7: Note: all ZAR values should be excluding VAT. | F7: Contract Year 7
F8: Contract Year 8
B9: Contract Year Plan | C9: Contract Year Actual | F9: Contract Year 9
A10: Total RSA-based Employee Person Months | B10: ='Semester 1'!B10+'Semester 2'!B10 -> 0 | C10: ='Semester 1'!C10+'Semester 2'!C10 -> 0 | F10: Contract Year 10
A11: Total RSA-based Employee Person Months by Verified Residents | B11: ='Semester 1'!B11+'Semester 2'!B11 -> 0 | C11: ='Semester 1'!C11+'Semester 2'!C11 -> 0 | F11: Contract Year 11
A12: Total Unskilled RSA-based Employee Person Months | B12: ='Semester 1'!B12+'Semester 2'!B12 -> 0 | C12: ='Semester 1'!C12+'Semester 2'!C12 -> 0
A13: Total Unskilled RSA-based Employee Person Months by Verified Residents | B13: ='Semester 1'!B13+'Semester 2'!B13 -> 0 | C13: ='Semester 1'!C13+'Semester 2'!C13 -> 0
A14: Revenue (ZAR) | B14: ='Semester 1'!B14+'Semester 2'!B14 -> 0 | C14: ='Semester 1'!C14+'Semester 2'!C14 -> 0 | F14: Contract Year 12
A15: Total Skills Development Contributions (ZAR) | B15: ='Semester 1'!B15+'Semester 2'!B15 -> 0 | C15: ='Semester 1'!C15+'Semester 2'!C15 -> 0 | F15: Contract Year 13
A16: Total Spending on Social Well-Being Programmes (ZAR) | B16: ='Semester 1'!B16+'Semester 2'!B16 -> 0 | C16: ='Semester 1'!C16+'Semester 2'!C16 -> 0 | F16: Contract Year 14
A17: Total Spending on Social Infrastructure (ZAR) | B17: ='Semester 1'!B17+'Semester 2'!B17 -> 0 | C17: ='Semester 1'!C17+'Semester 2'!C17 -> 0 | F17: Contract Year 15
A18: Total Social Spending (ZAR) | B18: =B16+B17 -> 0 | C18: =C16+C17 -> 0 | F18: Contract Year 16
F19: Contract Year 17
A20: Socio-Economic Development Obligations | B20: Annual Obligation (percentage) [A] | C20: Annual Achievement (percentage) [B] | D20: Socio-Economic Development Performance [B divided by A] | F20: Contract Year 18
A21: Job Creation | F21: Contract Year 19
A22: Percentage of total RSA-based Employee Person Months by Verified Residents | C22: =IFERROR(C11/B11,0) -> 0 | D22: =IFERROR(C22/B22,0) -> 0 | F22: Contract Year 20
A23: Percentage of total Unskilled RSA-based Employee Person Months by Verified Residents | C23: =IFERROR(C13/B13,0) -> 0 | D23: =IFERROR(C23/B23,0) -> 0
A24: Skills Development
A25: Percentage of Revenue spent on Skills Development | C25: =IFERROR(C15/C$14,0) -> 0 | D25: =IFERROR(C25/B25,0) -> 0
A26: Social Spending
A27: Percentage of Revenue spent on Social-Well Being Programmes | C27: =IFERROR(C16/C$14,0) -> 0 | D27: =IFERROR(C27/B27,0) -> 0
A28: Percentage of Revenue spent on Social Infrastructure | C28: =IFERROR(C17/C$14,0) -> 0 | D28: =IFERROR(C28/B28,0) -> 0
A29: Total Social Spending as a Percentage of Revenue | C29: =IFERROR(C18/C$14,0) -> 0 | D29: =IFERROR(C29/B29,0) -> 0
A31: The Project Company warrants that the information provided above is true and correct.
